Felt | Verdi |
AlreadyApplied | True |
Aperture | 2.8 |
ApertureValue | 2.8 |
Artist | Børre Ludvigsen |
AutoLateralCA | 0 |
BitsPerSample | 8 |
Blacks2012 | -64 |
BlueHue | 0 |
BlueSaturation | 0 |
By-line | Børre Ludvigsen |
CameraProfile | Embedded |
Caption-Abstract | Ara Güler at the Ara Cafe |
CircleOfConfusion | 0.020 mm |
City | Istanbul |
Clarity2012 | 0 |
ColorComponents | 1 |
ColorNoiseReduction | 0 |
Contrast2012 | +74 |
ConvertToGrayscale | True |
Copyright | Børre Ludvigsen |
CopyrightNotice | Børre Ludvigsen |
Country | Turkey |
Country-PrimaryLocationName | Turkey |
CreateDate | 2012:12:18 11:01:41 |
Creator | Børre Ludvigsen |
CreatorTool | Adobe Photoshop Lightroom 4.3 (Macintosh) |
CropAngle | 0 |
CropBottom | 0.904447 |
CropConstrainToWarp | 0 |
CropHeight | 3726 |
CropLeft | 0.07655 |
CropRight | 0.868572 |
CropTop | 0.112425 |
CropUnit | pixels |
CropWidth | 2484 |
CustomRendered | Custom |
DateCreated (1) | 2012:12:17 |
DateCreated | 2012:12:17 16:36:06 |
DateTimeOriginal | 2012:12:17 16:36:06 |
Description | Ara Güler at the Ara Cafe |
Exposure2012 | +1.30 |
ExposureCompensation | +0.3 |
ExposureMode | Auto bracket |
ExposureProgram | Program AE |
ExposureTime | 1/20 |
Flash | No Flash |
FNumber | 2.8 |
FocalLength | 30.0 mm |
FocalLength35efl | 30.0 mm (35 mm equivalent: 45.0 mm) |
FocalLengthIn35mmFormat | 45 mm |
Format | image/jpeg |
FOV | 43.6 deg |
GPSAltitude | 73.1135514 m |
GPSDateStamp | 2012:12:17 |
GPSDateTime | 2012:12:17 16:36:06Z |
GPSLatitude (1) | 41 deg 1' 59.33" |
GPSLatitude | 41 deg 1' 59.33" N |
GPSLatitudeRef | North |
GPSLongitude (1) | 28 deg 58' 37.75" |
GPSLongitude | 28 deg 58' 37.75" E |
GPSLongitudeRef | East |
GPSPosition | 41 deg 1' 59.33" N, 28 deg 58' 37.75" E |
GPSTimeStamp | 16:36:06 |
GrainAmount | 0 |
GrayMixerAqua | -17 |
GrayMixerBlue | +8 |
GrayMixerGreen | -24 |
GrayMixerMagenta | +3 |
GrayMixerOrange | -16 |
GrayMixerPurple | +13 |
GrayMixerRed | -8 |
GrayMixerYellow | -19 |
GreenHue | 0 |
GreenSaturation | 0 |
HasCrop | True |
HasSettings | True |
Highlights2012 | -100 |
HyperfocalDistance | 16.05 m |
ImageDescription | Ara Güler at the Ara Cafe |
ImageHeight | 1228 |
ImageSize | 819x1228 |
ImageWidth | 819 |
IncrementalTemperature | 0 |
IncrementalTint | 0 |
ISO | 1600 |
LensManualDistortionAmount | 0 |
LensProfileEnable | 0 |
LensProfileSetup | LensDefaults |
LightValue | 3.3 |
Location | Tomtom Mh. |
LuminanceSmoothing | 0 |
Make | SIGMA |
MaxApertureValue | 2.8 |
Megapixels | 1.0 |
MeteringMode | Multi-segment |
Model | SIGMA DP2 Merrill |
ModifyDate (1) | 2012:12:19 16:56:43+02:00 |
ModifyDate | 2012:12:19 16:56:43 |
ObjectName | Ara Güler at the Ara Cafe |
ParametricDarks | 0 |
ParametricHighlights | 0 |
ParametricHighlightSplit | 75 |
ParametricLights | 0 |
ParametricMidtoneSplit | 50 |
ParametricShadows | 0 |
ParametricShadowSplit | 25 |
PerspectiveHorizontal | 0 |
PerspectiveRotate | 0.0 |
PerspectiveScale | 100 |
PerspectiveVertical | 0 |
PostCropVignetteAmount | 0 |
ProcessVersion | 6.7 |
ProfileDescription | sRGB IEC61966-2.1 |
Province-State | Istanbul |
RedHue | 0 |
RedSaturation | 0 |
Rights | Børre Ludvigsen |
ScaleFactor35efl | 1.5 |
SceneCaptureType | Standard |
SensingMethod | One-chip color area |
Shadows2012 | +92 |
ShadowTint | 0 |
SharpenDetail | 25 |
SharpenEdgeMasking | 0 |
SharpenRadius | +1.0 |
Sharpness | 0 |
ShutterSpeed | 1/20 |
ShutterSpeedValue | 1/20 |
Software | Adobe Photoshop Lightroom 4.3 (Macintosh) |
SplitToningBalance | 0 |
SplitToningHighlightHue | 0 |
SplitToningHighlightSaturation | 0 |
SplitToningShadowHue | 0 |
SplitToningShadowSaturation | 0 |
State | Istanbul |
Sub-location | Tomtom Mh. |
Title | Ara Güler at the Ara Cafe |
ToneCurveName2012 | Linear |
ToneCurvePV2012 | 0, 0, 255, 255 |
ToneCurvePV2012Blue | 0, 0, 255, 255 |
ToneCurvePV2012Green | 0, 0, 255, 255 |
ToneCurvePV2012Red | 0, 0, 255, 255 |
Version | 7.3 |
VignetteAmount | 0 |
WhiteBalance (1) | As Shot |
WhiteBalance | Auto |
Whites2012 | 0 |