Felt | Verdi |
AlreadyApplied | True |
Aperture | 4.0 |
ApertureValue | 4.0 |
ApproximateFocusDistance | 0.8 |
AutoLateralCA | 0 |
BitsPerSample | 8 |
Blacks2012 | -29 |
BlueHue | 0 |
BlueSaturation | 0 |
CameraProfile | Adobe Standard |
CircleOfConfusion | 0.019 mm |
Clarity2012 | +100 |
ColorComponents | 3 |
ColorNoiseReduction | 25 |
ColorNoiseReductionDetail | 50 |
ColorTemperature | 6000 |
Contrast2012 | +28 |
ConvertToGrayscale | False |
Copyright | Hell©2012 |
CopyrightFlag | True |
CopyrightNotice | Hell©2012 |
CreateDate (1) | 2012:07:14 17:00:18.00 |
CreateDate | 2012:07:14 17:00:18 |
CreatorTool | Adobe Photoshop Lightroom 4.1 (Windows) |
CropAngle | 4.1477 |
CropBottom | 1 |
CropConstrainToWarp | 0 |
CropHeight | 3125 |
CropLeft | 0.070854 |
CropRight | 0.929146 |
CropTop | 0 |
CropUnit | pixels |
CropWidth | 4687 |
CustomRendered | Normal |
DateCreated (1) | 2012:07:14 |
DateCreated | 2012:07:14 17:00:18.00 |
DateTimeOriginal | 2012:07:14 17:00:18 |
DefringeGreenAmount | 0 |
DefringeGreenHueHi | 60 |
DefringeGreenHueLo | 40 |
DefringePurpleAmount | 0 |
DefringePurpleHueHi | 70 |
DefringePurpleHueLo | 30 |
DOF | 0.35 m (0.66 - 1.01 m) |
Exposure2012 | +0.20 |
ExposureCompensation | 0 |
ExposureMode | Auto |
ExposureProgram | Aperture-priority AE |
ExposureTime | 1/200 |
Firmware | 1.2.5 |
Flash | Off, Did not fire |
FlashCompensation | 0 |
FNumber | 4.0 |
FocalLength | 17.0 mm |
FocalLength35efl | 17.0 mm (35 mm equivalent: 26.7 mm) |
Format | image/jpeg |
FOV | 68.0 deg |
GradientBasedCorrActive | true |
GradientBasedCorrAmount | 1.000000 |
GradientBasedCorrBrightness | 0.000000 |
GradientBasedCorrClarity2012 | 0.571430 |
GradientBasedCorrContrast2012 | 0.166670 |
GradientBasedCorrDefringe | 0.000000 |
GradientBasedCorrExposure2012 | -0.238000 |
GradientBasedCorrHighlights2012 | 0.047620 |
GradientBasedCorrHue | 0.000000 |
GradientBasedCorrLuminanceNoise | 0.000000 |
GradientBasedCorrMaskFullX | 0.459826 |
GradientBasedCorrMaskFullY | 0.068404 |
GradientBasedCorrMaskValue | 1.000000 |
GradientBasedCorrMaskWhat | Mask/Gradient |
GradientBasedCorrMaskZeroX | 0.468513 |
GradientBasedCorrMaskZeroY | 0.431596 |
GradientBasedCorrMoire | 0.000000 |
GradientBasedCorrSaturation (1) | 0.020000 |
GradientBasedCorrSaturation | 0.000000 |
GradientBasedCorrShadows2012 | -0.976190 |
GradientBasedCorrSharpness | 0.500000 |
GradientBasedCorrTemperature | -0.050000 |
GradientBasedCorrTint | -0.030000 |
GradientBasedCorrWhat | Correction |
GrainAmount | 0 |
GreenHue | 0 |
GreenSaturation | 0 |
HasCrop | True |
HasSettings | True |
Highlights2012 | -100 |
HueAdjustmentAqua | 0 |
HueAdjustmentBlue | 0 |
HueAdjustmentGreen | 0 |
HueAdjustmentMagenta | 0 |
HueAdjustmentOrange | 0 |
HueAdjustmentPurple | 0 |
HueAdjustmentRed | 0 |
HueAdjustmentYellow | 0 |
HyperfocalDistance | 3.78 m |
ImageHeight | 3125 |
ImageNumber | 0 |
ImageSize | 4687x3125 |
ImageWidth | 4687 |
ISO | 100 |
Lens | EF17-40mm f/4L USM |
LensID (1) | 231 |
LensID | Canon EF 17-40mm f/4L USM |
LensInfo | 17-40mm f/? |
LensManualDistortionAmount | 0 |
LensModel | EF17-40mm f/4L USM |
LensProfileEnable | 0 |
LensProfileSetup | LensDefaults |
LightValue | 11.6 |
LuminanceAdjustmentAqua | 0 |
LuminanceAdjustmentBlue | 0 |
LuminanceAdjustmentGreen | 0 |
LuminanceAdjustmentMagenta | 0 |
LuminanceAdjustmentOrange | -19 |
LuminanceAdjustmentPurple | 0 |
LuminanceAdjustmentRed | -14 |
LuminanceAdjustmentYellow | -19 |
LuminanceNoiseReductionContrast | 0 |
LuminanceNoiseReductionDetail | 50 |
LuminanceSmoothing | 8 |
Make | Canon |
Marked | True |
MaxApertureValue | 4.0 |
Megapixels | 14.6 |
MeteringMode | Multi-segment |
Model | Canon EOS 7D |
ModifyDate (1) | 2012:07:15 01:46:47+02:00 |
ModifyDate | 2012:07:15 01:46:47 |
ParametricDarks | 0 |
ParametricHighlights | 0 |
ParametricHighlightSplit | 75 |
ParametricLights | 0 |
ParametricMidtoneSplit | 50 |
ParametricShadows | 0 |
ParametricShadowSplit | 25 |
PerspectiveHorizontal | 0 |
PerspectiveRotate | 0.0 |
PerspectiveScale | 100 |
PerspectiveVertical | 0 |
PostCropVignetteAmount | -21 |
PostCropVignetteFeather | 100 |
PostCropVignetteHighlightContrast | 0 |
PostCropVignetteMidpoint | 7 |
PostCropVignetteRoundness | 0 |
PostCropVignetteStyle | 1 |
ProcessVersion | 6.7 |
ProfileDescription | sRGB IEC61966-2.1 |
RedHue | 0 |
RedSaturation | 0 |
Rights | Hell©2012 |
Saturation | 0 |
SaturationAdjustmentAqua | 0 |
SaturationAdjustmentBlue | 0 |
SaturationAdjustmentGreen | 0 |
SaturationAdjustmentMagenta | 0 |
SaturationAdjustmentOrange | -15 |
SaturationAdjustmentPurple | 0 |
SaturationAdjustmentRed | -17 |
SaturationAdjustmentYellow | -12 |
ScaleFactor35efl | 1.6 |
SceneCaptureType | Standard |
SerialNumber | 3181208549 |
Shadows2012 | +45 |
ShadowTint | 0 |
SharpenDetail | 25 |
SharpenEdgeMasking | 68 |
SharpenRadius | +1.0 |
Sharpness | 60 |
ShutterSpeed | 1/200 |
ShutterSpeedValue | 1/200 |
Software | Adobe Photoshop Lightroom 4.1 (Windows) |
SplitToningBalance | 0 |
SplitToningHighlightHue | 53 |
SplitToningHighlightSaturation | 5 |
SplitToningShadowHue | 235 |
SplitToningShadowSaturation | 11 |
Tint | +29 |
ToneCurveName2012 | Linear |
ToneCurvePV2012 | 0, 0, 255, 255 |
ToneCurvePV2012Blue | 0, 0, 255, 255 |
ToneCurvePV2012Green | 0, 0, 255, 255 |
ToneCurvePV2012Red | 0, 0, 255, 255 |
Version | 7.1 |
Vibrance | +16 |
VignetteAmount | 0 |
WhiteBalance (1) | As Shot |
WhiteBalance | Auto |
Whites2012 | +27 |