Felt | Verdi |
AlreadyApplied | True |
Aperture | 6.3 |
ApertureValue | 6.3 |
BitsPerSample | 8 |
BlueHue | 0 |
BlueSaturation | 0 |
Brightness | 0 |
CameraProfile | Embedded |
ChromaticAberrationB | 0 |
ChromaticAberrationR | 0 |
CircleOfConfusion | 0.019 mm |
Clarity | 0 |
ColorComponents | 3 |
ColorMode | RGB |
ColorNoiseReduction | 0 |
ColorSpace | sRGB |
Contrast | 0 |
ConvertToGrayscale | False |
CreateDate (1) | 2011:09:30 13:30:10+02:00 |
CreateDate | 2011:09:30 13:30:10 |
CreatorTool | Adobe Photoshop Lightroom 3.4.1 |
CropAngle | -0.18591 |
CropBottom | 0.996152 |
CropConstrainToWarp | 0 |
CropHeight | 2809 |
CropLeft | 0.083436 |
CropRight | 0.857012 |
CropTop | 0.013597 |
CropUnit | pixels |
CropWidth | 3296 |
CustomRendered | Normal |
DateCreated | 2011:09:30 |
DateTimeDigitized | 2011:09:30 13:30:10+02:00 |
DateTimeOriginal (1) | 2011:09:30 13:30:10+02:00 |
DateTimeOriginal | 2011:09:30 13:30:10 |
Defringe | 0 |
ExifImageHeight | 2809 |
ExifImageWidth | 3296 |
Exposure | +0.10 |
ExposureCompensation | -1 |
ExposureMode | Auto |
ExposureProgram | Shutter speed priority AE |
ExposureTime | 1/500 |
FillLight | 7 |
Flash | Off, Did not fire |
FlashFired | False |
FlashFunction | False |
FlashMode | Off |
FlashRedEyeMode | False |
FlashReturn | No return detection |
FNumber | 6.3 |
FocalLength | 100.0 mm |
FocalLength35efl | 100.0 mm (35 mm equivalent: 161.5 mm) |
Format | image/jpeg |
FOV | 12.7 deg |
GrainAmount | 0 |
GreenHue | 0 |
GreenSaturation | 0 |
HasCrop | True |
HasSettings | True |
HighlightRecovery | 0 |
HueAdjustmentAqua | 0 |
HueAdjustmentBlue | 0 |
HueAdjustmentGreen | 0 |
HueAdjustmentMagenta | 0 |
HueAdjustmentOrange | 0 |
HueAdjustmentPurple | 0 |
HueAdjustmentRed | 0 |
HueAdjustmentYellow | 0 |
HyperfocalDistance | 85.34 m |
ICCProfileName | sRGB IEC61966-2.1 |
ImageHeight | 2809 |
ImageSize | 3296x2809 |
ImageWidth | 3296 |
IncrementalTemperature | 0 |
IncrementalTint | 0 |
ISO | 200 |
LensManualDistortionAmount | 0 |
LensProfileEnable | 0 |
LensProfileSetup | LensDefaults |
LightValue | 13.3 |
LuminanceAdjustmentAqua | 0 |
LuminanceAdjustmentBlue | 0 |
LuminanceAdjustmentGreen | 0 |
LuminanceAdjustmentMagenta | 0 |
LuminanceAdjustmentOrange | 0 |
LuminanceAdjustmentPurple | 0 |
LuminanceAdjustmentRed | 0 |
LuminanceAdjustmentYellow | 0 |
LuminanceSmoothing | 0 |
Make | Canon |
Megapixels | 9.3 |
MeteringMode | Multi-segment |
Model | Canon EOS 450D |
ModifyDate (1) | 2012:06:14 13:54:02+02:00 |
ModifyDate | 2012:06:14 13:54:02 |
Orientation | Horizontal (normal) |
PaintCorrectionActive | true |
PaintCorrectionAmount | 1.000000 |
PaintCorrectionBrightness (1) | -0.058824 |
PaintCorrectionBrightness | 0.000000 |
PaintCorrectionClarity (1) | 0.270588 |
PaintCorrectionClarity | 0.000000 |
PaintCorrectionContrast (1) | -0.200000 |
PaintCorrectionContrast | 0.000000 |
PaintCorrectionExposure (1) | 0.000000 |
PaintCorrectionExposure | -0.105882 |
PaintCorrectionHue | 240.000000 |
PaintCorrectionMaskCenterWeight (6) | 0.053521 |
PaintCorrectionMaskCenterWeight | 0.000000 |
PaintCorrectionMaskFlow | 1.000000 |
PaintCorrectionMaskRadius (1) | 0.039826 |
PaintCorrectionMaskRadius (14) | 0.053267 |
PaintCorrectionMaskRadius (19) | 0.046488 |
PaintCorrectionMaskRadius (3) | 0.017862 |
PaintCorrectionMaskRadius (8) | 0.020550 |
PaintCorrectionMaskRadius | 0.033283 |
PaintCorrectionMaskValue (3) | 0.000000 |
PaintCorrectionMaskValue | 1.000000 |
PaintCorrectionMaskWhat | Mask/Paint |
PaintCorrectionSaturation | 0.000000 |
PaintCorrectionSharpness | 0.000000 |
PaintCorrectionWhat | Correction |
ParametricDarks | 0 |
ParametricHighlights | 0 |
ParametricHighlightSplit | 75 |
ParametricLights | 0 |
ParametricMidtoneSplit | 50 |
ParametricShadows | 0 |
ParametricShadowSplit | 25 |
PerspectiveHorizontal | 0 |
PerspectiveRotate | 0.0 |
PerspectiveScale | 100 |
PerspectiveVertical | 0 |
PostCropVignetteAmount | 0 |
PrimaryChromaticities | 0.64, 0.33, 0.21, 0.71, 0.15, 0.06 |
ProcessVersion | 5.7 |
ProfileDescription | sRGB IEC61966-2.1 |
RedHue | 0 |
RedSaturation | 0 |
Saturation | 0 |
SaturationAdjustmentAqua | 0 |
SaturationAdjustmentBlue | 0 |
SaturationAdjustmentGreen | 0 |
SaturationAdjustmentMagenta | 0 |
SaturationAdjustmentOrange | 0 |
SaturationAdjustmentPurple | 0 |
SaturationAdjustmentRed | 0 |
SaturationAdjustmentYellow | 0 |
ScaleFactor35efl | 1.6 |
SceneCaptureType | Standard |
Shadows | 0 |
ShadowTint | 0 |
SharpenDetail | 25 |
SharpenEdgeMasking | 0 |
SharpenRadius | +1.0 |
Sharpness | 0 |
ShutterSpeed | 1/500 |
ShutterSpeedValue | 1/500 |
Software | Adobe Photoshop Elements 9.0 Macintosh |
SplitToningBalance | 0 |
SplitToningHighlightHue | 0 |
SplitToningHighlightSaturation | 0 |
SplitToningShadowHue | 0 |
SplitToningShadowSaturation | 0 |
ToneCurve | 0, 0, 255, 255 |
ToneCurveName | Linear |
URL_List | |
Version | 6.4.1 |
Vibrance | 0 |
VignetteAmount | 0 |
WhiteBalance (2) | As Shot |
WhiteBalance | Manual |
WhitePoint | 0.313, 0.329 |