Felt | Verdi |
AlreadyApplied | True |
Aperture | 8.0 |
ApertureValue | 8.0 |
ApproximateFocusDistance | 3.69 |
Artist | Eric Fagerheim |
BitsPerSample | 8 |
BlueHue | 0 |
BlueSaturation | 0 |
Brightness | 0 |
By-line | Eric Fagerheim |
CameraProfile | Embedded |
ChromaticAberrationB | 0 |
ChromaticAberrationR | 0 |
CircleOfConfusion | 0.031 mm |
Clarity | 0 |
ColorComponents | 3 |
ColorNoiseReduction | 0 |
Contrast | 0 |
ConvertToGrayscale | False |
Copyright | Eric Fagehreim |
CopyrightFlag | True |
CopyrightNotice | Eric Fagehreim |
CreateDate (1) | 2012:01:16 23:01:26.29 |
CreateDate | 2012:01:16 23:01:26 |
Creator | Eric Fagerheim |
CreatorAddress | Martin Stokkensveg 114 |
CreatorCity | 7027 Trondheim |
CreatorCountry | Norway |
CreatorTool | Adobe Photoshop Lightroom 3.6 (Windows) |
CreatorWorkEmail | mail@fotoafshion.no |
CustomRendered | Normal |
DateCreated (1) | 2012:01:16 |
DateCreated | 2012:01:16 23:01:26.029 |
DateTimeOriginal | 2012:01:16 23:01:26 |
Defringe | 0 |
DOF | 1.27 m (3.16 - 4.43 m) |
Exposure | 0.00 |
ExposureCompensation | 0 |
ExposureMode | Manual |
ExposureProgram | Manual |
ExposureTime | 1/160 |
FillLight | 0 |
Firmware | 2.0.9 |
Flash | Off, Did not fire |
FlashCompensation | 0 |
FNumber | 8.0 |
FocalLength | 73.0 mm |
FocalLength35efl | 73.0 mm (35 mm equivalent: 71.2 mm) |
Format | image/jpeg |
FOV | 28.4 deg |
GradientBasedCorrActive | true |
GradientBasedCorrAmount | 1.000000 |
GradientBasedCorrBrightness | 0.000000 |
GradientBasedCorrClarity | 0.000000 |
GradientBasedCorrContrast | 0.000000 |
GradientBasedCorrExposure | 0.073250 |
GradientBasedCorrHue | 0.000000 |
GradientBasedCorrMaskFullX | 0.213696 |
GradientBasedCorrMaskFullY | 0.297029 |
GradientBasedCorrMaskValue | 1.000000 |
GradientBasedCorrMaskWhat | Mask/Gradient |
GradientBasedCorrMaskZeroX | 0.344059 |
GradientBasedCorrMaskZeroY | 0.361386 |
GradientBasedCorrSaturation | 0.000000 |
GradientBasedCorrSharpness | 0.000000 |
GradientBasedCorrWhat | Correction |
GrainAmount | 0 |
GreenHue | 0 |
GreenSaturation | 0 |
HasCrop | False |
HasSettings | True |
Headline | Fotofashion |
HighlightRecovery | 0 |
HueAdjustmentAqua | 0 |
HueAdjustmentBlue | 0 |
HueAdjustmentGreen | 0 |
HueAdjustmentMagenta | 0 |
HueAdjustmentOrange | 0 |
HueAdjustmentPurple | 0 |
HueAdjustmentRed | 0 |
HueAdjustmentYellow | 0 |
HyperfocalDistance | 21.64 m |
ImageHeight | 633 |
ImageNumber | 0 |
ImageSize | 950x633 |
ImageWidth | 950 |
IncrementalTemperature | 0 |
IncrementalTint | 0 |
ISO | 100 |
Keywords | Irresistible, band, beauty, fotofashion, fotograf, girl, shoot, studio, trondheim |
Label | Fotofashion |
Lens | EF70-200mm f/2.8L IS USM |
LensID (1) | 224 |
LensID | Canon EF 70-200mm f/2.8L IS USM |
LensInfo | 70-200mm f/? |
LensManualDistortionAmount | 0 |
LensModel | EF70-200mm f/2.8L IS USM |
LensProfileEnable | 0 |
LensProfileSetup | LensDefaults |
LightValue | 13.3 |
LuminanceAdjustmentAqua | 0 |
LuminanceAdjustmentBlue | 0 |
LuminanceAdjustmentGreen | 0 |
LuminanceAdjustmentMagenta | 0 |
LuminanceAdjustmentOrange | 0 |
LuminanceAdjustmentPurple | 0 |
LuminanceAdjustmentRed | 0 |
LuminanceAdjustmentYellow | 0 |
LuminanceSmoothing | 0 |
Make | Canon |
Marked | True |
MaxApertureValue | 2.8 |
Megapixels | 0.601 |
MeteringMode | Center-weighted average |
Model | Canon EOS 5D Mark II |
ModifyDate (1) | 2012:02:07 12:39:58+01:00 |
ModifyDate | 2012:02:07 12:39:58 |
ObjectName | copyright www.fotofashion.no |
ParametricDarks | 0 |
ParametricHighlights | 0 |
ParametricHighlightSplit | 75 |
ParametricLights | 0 |
ParametricMidtoneSplit | 50 |
ParametricShadows | 0 |
ParametricShadowSplit | 25 |
PerspectiveHorizontal | 0 |
PerspectiveRotate | 0.0 |
PerspectiveScale | 100 |
PerspectiveVertical | 0 |
PostCropVignetteAmount | -50 |
PostCropVignetteFeather | 71 |
PostCropVignetteHighlightContrast | 0 |
PostCropVignetteMidpoint | 50 |
PostCropVignetteRoundness | +100 |
PostCropVignetteStyle | 1 |
ProcessVersion | 5.7 |
ProfileDescription | sRGB IEC61966-2.1 |
Rating | 4 |
RedHue | 0 |
RedSaturation | 0 |
Rights | Eric Fagehreim |
Saturation | -17 |
SaturationAdjustmentAqua | 0 |
SaturationAdjustmentBlue | 0 |
SaturationAdjustmentGreen | 0 |
SaturationAdjustmentMagenta | 0 |
SaturationAdjustmentOrange | 0 |
SaturationAdjustmentPurple | 0 |
SaturationAdjustmentRed | +11 |
SaturationAdjustmentYellow | 0 |
ScaleFactor35efl | 1.0 |
SceneCaptureType | Standard |
SerialNumber | 1330823407 |
Shadows | 0 |
ShadowTint | 0 |
SharpenDetail | 25 |
SharpenEdgeMasking | 0 |
SharpenRadius | +1.0 |
Sharpness | 0 |
ShutterSpeed | 1/160 |
ShutterSpeedValue | 1/160 |
Software | Adobe Photoshop Lightroom 3.6 (Windows) |
SplitToningBalance | 0 |
SplitToningHighlightHue | 0 |
SplitToningHighlightSaturation | 0 |
SplitToningShadowHue | 0 |
SplitToningShadowSaturation | 0 |
Subject | Irresistible, band, beauty, fotofashion, fotograf, girl, shoot, studio, trondheim |
SubjectDistance | 3.69 m |
Title | copyright www.fotofashion.no |
ToneCurve | 0, 0, 255, 255 |
ToneCurveName | Linear |
URL | http://www.fotofashion.no |
Version | 6.6 |
Vibrance | 0 |
VignetteAmount | 0 |
WebStatement | http://www.fotofashion.no |
WhiteBalance (1) | As Shot |
WhiteBalance | Auto |