Felt | Verdi |
AlreadyApplied | True |
Aperture | 4.5 |
ApertureValue | 4.5 |
ApproximateFocusDistance | 1.65 |
Artist | Thomas Haga |
BitsPerSample (1) | 16 16 16 |
BitsPerSample | 8 |
BlueHue | +11 |
BlueSaturation | -70 |
Brightness | +57 |
By-line | Thomas Haga |
CameraProfile | Adobe Standard |
ChromaticAberrationB | 0 |
ChromaticAberrationR | 0 |
CircleOfConfusion | 0.019 mm |
Clarity | 0 |
ColorComponents | 3 |
ColorMode | RGB |
ColorNoiseReduction | 52 |
ColorNoiseReductionDetail | 50 |
ColorSpace | sRGB |
ColorTemperature | 12500 |
Contrast | +25 |
ConvertToGrayscale | False |
Copyright | +47 992 53 210 |
CopyrightNotice | +47 992 53 210 |
CreateDate (1) | 2011:12:01 13:37:32.92 |
CreateDate | 2011:12:01 13:37:32 |
Creator | Thomas Haga |
CreatorTool | Adobe Photoshop Lightroom 3.5 (Windows) |
CropAngle | 0 |
CropBottom | 0.916519 |
CropConstrainToWarp | 0 |
CropHeight | 3100 |
CropLeft | 0.094763 |
CropRight | 0.991744 |
CropTop | 0.019538 |
CropUnit | pixels |
CropWidth | 4650 |
CustomRendered | Normal |
DateCreated (1) | 2011:12:01 |
DateCreated | 2011:12:01 13:37:32.092 |
DateTimeOriginal | 2011:12:01 13:37:32 |
Defringe | 0 |
DOF | 0.52 m (1.43 - 1.95 m) |
ExifImageHeight | 1024 |
ExifImageWidth | 683 |
Exposure | +0.75 |
ExposureCompensation | 0 |
ExposureMode | Auto |
ExposureProgram | Shutter speed priority AE |
ExposureTime | 1/100 |
FillLight | 0 |
Firmware | 1.1.0 |
Flash | Off, Did not fire |
FlashCompensation | 0 |
FNumber | 4.5 |
FocalLength | 30.0 mm |
FocalLength35efl | 30.0 mm (35 mm equivalent: 47.2 mm) |
Format | image/jpeg |
FOV | 41.8 deg |
GrainAmount | 0 |
GreenHue | +11 |
GreenSaturation | +25 |
HasCrop | True |
HasSettings | True |
HighlightRecovery | 0 |
HueAdjustmentAqua | 0 |
HueAdjustmentBlue | 0 |
HueAdjustmentGreen | 0 |
HueAdjustmentMagenta | 0 |
HueAdjustmentOrange | 0 |
HueAdjustmentPurple | 0 |
HueAdjustmentRed | 0 |
HueAdjustmentYellow | 0 |
HyperfocalDistance | 10.47 m |
ICCProfileName | sRGB IEC61966-2.1 |
ImageHeight (1) | 4650 |
ImageHeight | 1024 |
ImageNumber | 0 |
ImageSize | 683x1024 |
ImageWidth (1) | 3100 |
ImageWidth | 683 |
ISO | 125 |
Lens | EF-S17-85mm f/4-5.6 IS USM |
LensID (1) | 234 |
LensID | Canon EF-S 17-85mm f/4-5.6 IS USM |
LensInfo | 17-85mm f/? |
LensManualDistortionAmount | 0 |
LensModel | EF-S17-85mm f/4-5.6 IS USM |
LensProfileEnable | 0 |
LensProfileSetup | LensDefaults |
LensSerialNumber | 0000119e5a |
LightValue | 10.7 |
LuminanceAdjustmentAqua | 0 |
LuminanceAdjustmentBlue | 0 |
LuminanceAdjustmentGreen | 0 |
LuminanceAdjustmentMagenta | 0 |
LuminanceAdjustmentOrange | 0 |
LuminanceAdjustmentPurple | 0 |
LuminanceAdjustmentRed | 0 |
LuminanceAdjustmentYellow | 0 |
LuminanceNoiseReductionContrast | 29 |
LuminanceNoiseReductionDetail | 68 |
LuminanceSmoothing | 44 |
Make | Canon |
MaxApertureValue | 4.6 |
Megapixels | 0.699 |
MeteringMode | Multi-segment |
Model | Canon EOS 60D |
ModifyDate (1) | 2011:12:02 09:58:49+01:00 |
ModifyDate | 2011:12:02 09:58:49 |
Orientation | Horizontal (normal) |
ParametricDarks | -3 |
ParametricHighlights | 0 |
ParametricHighlightSplit | 75 |
ParametricLights | 0 |
ParametricMidtoneSplit | 50 |
ParametricShadows | -14 |
ParametricShadowSplit | 25 |
PerspectiveHorizontal | 0 |
PerspectiveRotate | 0.0 |
PerspectiveScale | 100 |
PerspectiveVertical | 0 |
PhotometricInterpretation | RGB |
PlanarConfiguration | Chunky |
PostCropVignetteAmount | -15 |
PostCropVignetteFeather | 50 |
PostCropVignetteHighlightContrast | 0 |
PostCropVignetteMidpoint | 50 |
PostCropVignetteRoundness | 0 |
PostCropVignetteStyle | 1 |
ProcessVersion | 5.7 |
ProfileDescription | sRGB IEC61966-2.1 |
RecommendedExposureIndex | 125 |
RedHue | +96 |
RedSaturation | +3 |
Rights | +47 992 53 210 |
Saturation | -71 |
SaturationAdjustmentAqua | 0 |
SaturationAdjustmentBlue | 0 |
SaturationAdjustmentGreen | 0 |
SaturationAdjustmentMagenta | 0 |
SaturationAdjustmentOrange | 0 |
SaturationAdjustmentPurple | 0 |
SaturationAdjustmentRed | 0 |
SaturationAdjustmentYellow | 0 |
ScaleFactor35efl | 1.6 |
SceneCaptureType | Standard |
SensitivityType | Recommended Exposure Index |
SerialNumber | 1380704117 |
Shadows | 11 |
ShadowTint | +8 |
SharpenDetail | 70 |
SharpenEdgeMasking | 0 |
SharpenRadius | +0.7 |
Sharpness | 71 |
ShutterSpeed | 1/100 |
ShutterSpeedValue | 1/100 |
Software | Adobe Photoshop CS5.1 Windows |
SplitToningBalance | 0 |
SplitToningHighlightHue | 0 |
SplitToningHighlightSaturation | 0 |
SplitToningShadowHue | 0 |
SplitToningShadowSaturation | 0 |
SubjectDistance | 1.65 m |
Tint | +35 |
ToneCurve | 0, 0, 255, 255 |
ToneCurveName | Linear |
URL_List | |
Version | 6.5 |
Vibrance | 0 |
VignetteAmount | -61 |
VignetteMidpoint | 34 |
WhiteBalance (1) | Custom |
WhiteBalance | Auto |