Felt | Verdi |
AlreadyApplied | True |
Aperture | 4.0 |
ApertureValue | 4.0 |
ApproximateFocusDistance | 8.29 |
Artist | Erik Østlyngen |
BitsPerSample | 8 |
BlueHue | 0 |
BlueSaturation | 0 |
Brightness | +50 |
By-line | Erik Østlyngen |
CameraProfile | Adobe Standard |
CaptionWriter | Erik Østlyngen |
ChromaticAberrationB | 0 |
ChromaticAberrationR | 0 |
CircleOfConfusion | 0.019 mm |
City | Oslo |
Clarity | 0 |
ColorComponents | 1 |
ColorNoiseReduction | 26 |
ColorNoiseReductionDetail | 50 |
ColorTemperature | 5950 |
Contrast | 0 |
ConvertToGrayscale | True |
Copyright | © Erik Østlyngen |
CopyrightFlag | True |
CopyrightNotice | © Erik Østlyngen |
Country | Norway |
Country-PrimaryLocationName | Norway |
CreateDate (1) | 2011:06:20 19:45:46.21 |
CreateDate | 2011:06:20 19:45:46 |
Creator | Erik Østlyngen |
CreatorCity | Oslo |
CreatorCountry | Norway |
CreatorTool | Adobe Photoshop Lightroom 3.5 (Windows) |
CreatorWorkURL | www.hegdehaugen.com |
CropAngle | 0 |
CropBottom | 0.62353 |
CropConstrainToWarp | 0 |
CropHeight | 1920 |
CropLeft | 0.333333 |
CropRight | 0.649673 |
CropTop | 0 |
CropUnit | pixels |
CropWidth | 1461 |
CustomRendered | Normal |
DateCreated (1) | 2011:06:20 |
DateCreated | 2011:06:20 19:45:46.21 |
DateTimeOriginal | 2011:06:20 19:45:46 |
Defringe | 0 |
DOF | 1.29 m (7.69 - 8.99 m) |
Exposure | -4.00 |
ExposureCompensation | 0 |
ExposureMode | Manual |
ExposureProgram | Manual |
ExposureTime | 1/400 |
FillLight | 0 |
Firmware | 1.2.5 |
Flash | Off, Did not fire |
FlashCompensation | 0 |
FNumber | 4.0 |
FocalLength | 90.0 mm |
FocalLength35efl | 90.0 mm (35 mm equivalent: 141.3 mm) |
FOV | 14.5 deg |
GrainAmount | 0 |
GrayMixerAqua | -20 |
GrayMixerBlue | +6 |
GrayMixerGreen | -27 |
GrayMixerMagenta | +4 |
GrayMixerOrange | -19 |
GrayMixerPurple | +14 |
GrayMixerRed | -9 |
GrayMixerYellow | -23 |
GreenHue | 0 |
GreenSaturation | 0 |
HasCrop | True |
HasSettings | True |
HighlightRecovery | 0 |
HyperfocalDistance | 105.83 m |
ImageHeight | 1920 |
ImageNumber | 0 |
ImageSize | 1461x1920 |
ImageWidth | 1461 |
ISO | 800 |
Keywords | Frognerparken, Oslo |
Lens | EF70-200mm f/2.8L IS II USM |
LensID (1) | 251 |
LensID | Canon EF 70-200mm f/2.8L IS II USM |
LensInfo | 70-200mm f/? |
LensManualDistortionAmount | 0 |
LensModel | EF70-200mm f/2.8L IS II USM |
LensProfileEnable | 0 |
LensProfileSetup | LensDefaults |
LightValue | 9.6 |
LuminanceNoiseReductionContrast | 0 |
LuminanceNoiseReductionDetail | 50 |
LuminanceSmoothing | 10 |
Make | Canon |
Marked | True |
MaxApertureValue | 2.8 |
Megapixels | 2.8 |
MeteringMode | Multi-segment |
Model | Canon EOS 7D |
ModifyDate (1) | 2011:10:24 22:42:53+02:00 |
ModifyDate | 2011:10:24 22:42:53 |
ParametricDarks | -45 |
ParametricHighlights | 0 |
ParametricHighlightSplit | 75 |
ParametricLights | 0 |
ParametricMidtoneSplit | 50 |
ParametricShadows | -52 |
ParametricShadowSplit | 25 |
PerspectiveHorizontal | 0 |
PerspectiveRotate | 0.0 |
PerspectiveScale | 100 |
PerspectiveVertical | 0 |
PostCropVignetteAmount | 0 |
ProcessVersion | 5.7 |
ProfileDescription | sRGB IEC61966-2.1 |
Rating | 4 |
RedHue | 0 |
RedSaturation | 0 |
Rights | © Erik Østlyngen |
ScaleFactor35efl | 1.6 |
SceneCaptureType | Standard |
SerialNumber | 280102786 |
Shadows | 100 |
ShadowTint | 0 |
SharpenDetail | 0 |
SharpenEdgeMasking | 10 |
SharpenRadius | +0.5 |
Sharpness | 25 |
ShutterSpeed | 1/400 |
ShutterSpeedValue | 1/400 |
Software | Adobe Photoshop Lightroom 3.5 (Windows) |
SplitToningBalance | 0 |
SplitToningHighlightHue | 0 |
SplitToningHighlightSaturation | 0 |
SplitToningShadowHue | 0 |
SplitToningShadowSaturation | 0 |
Subject | Frognerparken, Oslo |
SubjectDistance | 8.29 m |
Tint | +19 |
ToneCurve | 0, 0, 32, 22, 64, 56, 128, 128, 192, 196, 255, 255 |
ToneCurveName | Medium Contrast |
Version | 6.5 |
VignetteAmount | 0 |
WhiteBalance (1) | As Shot |
WhiteBalance | Auto |
Writer-Editor | Erik Østlyngen |