Felt | Verdi |
AlreadyApplied | True |
Aperture | 2.8 |
ApertureValue | 2.8 |
ApproximateFocusDistance | 0.33 |
Artist | Fredrik Kilander |
BitsPerSample | 8 |
BlueHue | 0 |
BlueSaturation | 0 |
Brightness | +41 |
By-line | Fredrik Kilander |
CameraProfile | Adobe Standard |
Caption-Abstract | A black and white close-up image of leaves in a hedge. |
ChromaticAberrationB | 0 |
ChromaticAberrationR | 0 |
CircleOfConfusion | 0.019 mm |
Clarity | +73 |
ColorComponents | 1 |
ColorNoiseReduction | 25 |
ColorNoiseReductionDetail | 50 |
ColorTemperature | 5250 |
Contrast | -18 |
ConvertToGrayscale | True |
Copyright | Copyright 2011 |
CopyrightFlag | True |
CopyrightNotice | Copyright 2011 |
CreateDate (1) | 2011:07:19 21:35:27.48 |
CreateDate | 2011:07:19 21:35:27 |
Creator | Fredrik Kilander |
CreatorCountry | Norway |
CreatorTool | Adobe Photoshop Lightroom 3.4.1 |
CreatorWorkURL | http://freka.net |
CustomRendered | Normal |
DateCreated (1) | 2011:07:19 |
DateCreated | 2011:07:19 21:35:27.48 |
DateTimeOriginal | 2011:07:19 21:35:27 |
Defringe | 0 |
Description | A black and white close-up image of leaves in a hedge. |
DOF | 0.04 m (0.31 - 0.35 m) |
Exposure | 0.00 |
ExposureCompensation | +1/3 |
ExposureMode | Auto |
ExposureProgram | Aperture-priority AE |
ExposureTime | 1/60 |
FillLight | 0 |
Firmware | 1.2.5 |
Flash | Off, Did not fire |
FlashCompensation | 0 |
FNumber | 2.8 |
FocalLength | 17.0 mm |
FocalLength35efl | 17.0 mm (35 mm equivalent: 26.7 mm) |
FOV | 68.0 deg |
GrainAmount | 0 |
GrayMixerAqua | -44 |
GrayMixerBlue | +10 |
GrayMixerGreen | -35 |
GrayMixerMagenta | -1 |
GrayMixerOrange | -18 |
GrayMixerPurple | +12 |
GrayMixerRed | -12 |
GrayMixerYellow | -21 |
GreenHue | 0 |
GreenSaturation | 0 |
HasCrop | False |
HasSettings | True |
HighlightRecovery | 0 |
HyperfocalDistance | 5.39 m |
ImageDescription | A black and white close-up image of leaves in a hedge. |
ImageHeight | 800 |
ImageNumber | 0 |
ImageSize | 1200x800 |
ImageWidth | 1200 |
ISO | 800 |
Keywords | bw, hedge, nature, plants |
Lens | EF-S17-55mm f/2.8 IS USM |
LensID (1) | 240 |
LensID | Canon EF-S 17-55mm f/2.8 IS USM |
LensInfo | 17-55mm f/? |
LensManualDistortionAmount | 0 |
LensModel | EF-S17-55mm f/2.8 IS USM |
LensProfileChromaticAberrationScale | 100 |
LensProfileDistortionScale | 100 |
LensProfileEnable | 0 |
LensProfileFilename | Canon EOS 50D (Canon EF-S 17-55mm f2.8 IS USM) - RAW.lcp |
LensProfileName | Adobe (Canon EF-S 17-55mm f/2.8 IS USM) |
LensProfileSetup | Custom |
LensProfileVignettingScale | 0 |
LightValue | 5.9 |
LuminanceNoiseReductionContrast | 50 |
LuminanceNoiseReductionDetail | 100 |
LuminanceSmoothing | 35 |
Make | Canon |
Marked | True |
MaxApertureValue | 2.8 |
Megapixels | 0.960 |
MeteringMode | Multi-segment |
Model | Canon EOS 7D |
ModifyDate (1) | 2011:10:04 09:33:39+02:00 |
ModifyDate | 2011:10:04 09:33:39 |
ObjectName | Hedge leaves |
ParametricDarks | -9 |
ParametricHighlights | +66 |
ParametricHighlightSplit | 75 |
ParametricLights | +50 |
ParametricMidtoneSplit | 50 |
ParametricShadows | -52 |
ParametricShadowSplit | 25 |
PerspectiveHorizontal | 0 |
PerspectiveRotate | 0.0 |
PerspectiveScale | 100 |
PerspectiveVertical | 0 |
PostCropVignetteAmount | 0 |
ProcessVersion | 5.7 |
ProfileDescription | sRGB IEC61966-2.1 |
Rating | 4 |
RedHue | 0 |
RedSaturation | 0 |
Rights | Copyright 2011 |
ScaleFactor35efl | 1.6 |
SceneCaptureType | Standard |
SerialNumber | 480407788 |
Shadows | 0 |
ShadowTint | 0 |
SharpenDetail | 30 |
SharpenEdgeMasking | 25 |
SharpenRadius | +1.1 |
Sharpness | 31 |
ShutterSpeed | 1/60 |
ShutterSpeedValue | 1/60 |
Software | Adobe Photoshop Lightroom 3.4.1 |
SplitToningBalance | 0 |
SplitToningHighlightHue | 0 |
SplitToningHighlightSaturation | 0 |
SplitToningShadowHue | 0 |
SplitToningShadowSaturation | 0 |
Subject | bw, hedge, nature, plants |
SubjectDistance | 0.33 m |
Tint | +8 |
Title | Hedge leaves |
ToneCurve | 0, 0, 32, 16, 64, 50, 128, 128, 192, 202, 255, 255 |
ToneCurveName | Strong Contrast |
Version | 6.4.1 |
VignetteAmount | 0 |
WhiteBalance (1) | As Shot |
WhiteBalance | Manual |