Felt | Verdi |
AlreadyApplied | True |
Aperture | 1.8 |
ApertureValue | 1.8 |
ApproximateFocusDistance | 1.25 |
Artist | Fredrik Kilander |
BitsPerSample | 8 |
BlueHue | 0 |
BlueSaturation | 0 |
Brightness | +50 |
By-line | Fredrik Kilander |
CameraProfile | Adobe Standard |
ChromaticAberrationB | 0 |
ChromaticAberrationR | 0 |
CircleOfConfusion | 0.019 mm |
Clarity | +14 |
ColorComponents | 3 |
ColorNoiseReduction | 35 |
ColorNoiseReductionDetail | 50 |
ColorTemperature | 3800 |
Contrast | +25 |
ConvertToGrayscale | False |
Copyright | Copyright 2011 |
CopyrightNotice | Copyright 2011 |
CreateDate (1) | 2011:09:20 23:22:37.00 |
CreateDate | 2011:09:20 23:22:37 |
Creator | Fredrik Kilander |
CreatorTool | Adobe Photoshop Lightroom 3.4.1 |
CustomRendered | Normal |
DateCreated (1) | 2011:09:20 |
DateCreated | 2011:09:20 23:22:37.00 |
DateTimeOriginal | 2011:09:20 23:22:37 |
Defringe | 0 |
DOF | 0.014 m (1.243 - 1.257 m) |
Exposure | 0.00 |
ExposureCompensation | 0 |
ExposureMode | Manual |
ExposureProgram | Manual |
ExposureTime | 1/4 |
FillLight | 0 |
Firmware | 1.2.5 |
Flash | Off, Did not fire |
FlashCompensation | 0 |
FNumber | 1.8 |
FocalLength | 85.0 mm |
FocalLength35efl | 85.0 mm (35 mm equivalent: 133.5 mm) |
FOV | 15.4 deg |
GrainAmount | 0 |
GreenHue | 0 |
GreenSaturation | 0 |
HasCrop | False |
HasSettings | True |
HighlightRecovery | 0 |
HueAdjustmentAqua | 0 |
HueAdjustmentBlue | 0 |
HueAdjustmentGreen | 0 |
HueAdjustmentMagenta | 0 |
HueAdjustmentOrange | 0 |
HueAdjustmentPurple | 0 |
HueAdjustmentRed | 0 |
HueAdjustmentYellow | 0 |
HyperfocalDistance | 209.78 m |
ImageHeight | 800 |
ImageNumber | 0 |
ImageSize | 1200x800 |
ImageWidth | 1200 |
ISO | 100 |
Lens | EF85mm f/1.8 USM |
LensID (1) | 155 |
LensID | Canon EF 85mm f/1.8 USM |
LensInfo | 85mm f/? |
LensManualDistortionAmount | 0 |
LensModel | EF85mm f/1.8 USM |
LensProfileChromaticAberrationScale | 100 |
LensProfileDistortionScale | 100 |
LensProfileEnable | 1 |
LensProfileFilename | Canon EOS-1Ds Mark III (Canon EF 85mm f1.8 USM) - RAW.lcp |
LensProfileName | Adobe (Canon EF 85mm f/1.8 USM) |
LensProfileSetup | LensDefaults |
LensProfileVignettingScale | 100 |
LightValue | 3.7 |
LuminanceAdjustmentAqua | 0 |
LuminanceAdjustmentBlue | 0 |
LuminanceAdjustmentGreen | 0 |
LuminanceAdjustmentMagenta | 0 |
LuminanceAdjustmentOrange | 0 |
LuminanceAdjustmentPurple | 0 |
LuminanceAdjustmentRed | 0 |
LuminanceAdjustmentYellow | 0 |
LuminanceNoiseReductionContrast | 23 |
LuminanceNoiseReductionDetail | 50 |
LuminanceSmoothing | 47 |
Make | Canon |
MaxApertureValue | 1.8 |
Megapixels | 0.960 |
MeteringMode | Multi-segment |
Model | Canon EOS 7D |
ModifyDate (1) | 2011:09:23 01:50:35+02:00 |
ModifyDate | 2011:09:23 01:50:35 |
ParametricDarks | 0 |
ParametricHighlights | 0 |
ParametricHighlightSplit | 75 |
ParametricLights | 0 |
ParametricMidtoneSplit | 50 |
ParametricShadows | 0 |
ParametricShadowSplit | 25 |
PerspectiveHorizontal | 0 |
PerspectiveRotate | 0.0 |
PerspectiveScale | 100 |
PerspectiveVertical | 0 |
PostCropVignetteAmount | 0 |
ProcessVersion | 5.7 |
ProfileDescription | sRGB IEC61966-2.1 |
RedHue | 0 |
RedSaturation | 0 |
Rights | Copyright 2011 |
Saturation | +14 |
SaturationAdjustmentAqua | 0 |
SaturationAdjustmentBlue | 0 |
SaturationAdjustmentGreen | 0 |
SaturationAdjustmentMagenta | 0 |
SaturationAdjustmentOrange | 0 |
SaturationAdjustmentPurple | 0 |
SaturationAdjustmentRed | 0 |
SaturationAdjustmentYellow | 0 |
ScaleFactor35efl | 1.6 |
SceneCaptureType | Standard |
SerialNumber | 480407788 |
Shadows | 5 |
ShadowTint | 0 |
SharpenDetail | 25 |
SharpenEdgeMasking | 0 |
SharpenRadius | +1.0 |
Sharpness | 25 |
ShutterSpeed | 1/4 |
ShutterSpeedValue | 1/4 |
Software | Adobe Photoshop Lightroom 3.4.1 |
SplitToningBalance | 0 |
SplitToningHighlightHue | 0 |
SplitToningHighlightSaturation | 0 |
SplitToningShadowHue | 0 |
SplitToningShadowSaturation | 0 |
SubjectDistance | 1.25 m |
Tint | +8 |
ToneCurve | 0, 0, 32, 22, 64, 56, 128, 128, 192, 196, 255, 255 |
ToneCurveName | Medium Contrast |
Version | 6.4.1 |
Vibrance | -27 |
VignetteAmount | 0 |
WhiteBalance (1) | As Shot |
WhiteBalance | Manual |