Felt | Verdi |
AlreadyApplied | True |
Aperture | 5.0 |
ApertureValue | 5.0 |
BitsPerSample | 8 |
BlueHue | 0 |
BlueSaturation | 0 |
Brightness | +26 |
By-line | Karel Krizak |
CameraProfile | Adobe Standard |
ChromaticAberrationB | 0 |
ChromaticAberrationR | 0 |
CircleOfConfusion | 0.030 mm |
Clarity | +56 |
ColorComponents | 1 |
ColorNoiseReduction | 10 |
ColorTemperature | 4023 |
Contrast | +27 |
ConvertToGrayscale | False |
Copyright | Karel Krizak |
CopyrightFlag | True |
CopyrightNotice | Karel Krizak |
CreateDate (1) | 2010:05:01 16:14:39+02:00 |
CreateDate | 2010:05:01 16:14:39 |
Creator | Karel Krizak |
CreatorAddress | Kløvervegen 56 |
CreatorCity | Verdal |
CreatorCountry | Norway |
CreatorPostalCode | 7650 |
CreatorTool | Adobe Photoshop Lightroom |
CreatorWorkEmail | karel@krizak.com |
CropAngle | -1.44115 |
CropBottom | 0.844724 |
CropConstrainToWarp | 0 |
CropHeight | 900 |
CropLeft | 0.381785 |
CropRight | 0.712218 |
CropTop | 0.373402 |
CropUnit | pixels |
CropWidth | 900 |
CustomRendered | Normal |
DateTimeDigitized | 2010:05:01 16:14:39+02:00 |
DateTimeOriginal (1) | 2010:05:01 16:14:39+02:00 |
DateTimeOriginal | 2010:05:01 16:14:39 |
Defringe | 0 |
ExifImageHeight | 900 |
ExifImageWidth | 900 |
Exposure | +0.97 |
ExposureCompensation | 0 |
ExposureMode | Auto |
ExposureProgram | Aperture-priority AE |
ExposureTime | 1/1000 |
FillLight | 25 |
Firmware | 1.1.1 |
Flash | Off, Did not fire |
FlashCompensation | 0 |
FlashFired | False |
FlashFunction | False |
FlashMode | Off |
FlashRedEyeMode | False |
FlashReturn | No return detection |
FNumber | 5.0 |
FocalLength | 300.0 mm |
FocalLength35efl | 300.0 mm (35 mm equivalent: 300.6 mm) |
FOV | 6.9 deg |
GrainAmount | 0 |
GreenHue | 0 |
GreenSaturation | 0 |
HasCrop | True |
HasSettings | True |
HighlightRecovery | 16 |
HueAdjustmentAqua | 0 |
HueAdjustmentBlue | 0 |
HueAdjustmentGreen | 0 |
HueAdjustmentMagenta | 0 |
HueAdjustmentOrange | 0 |
HueAdjustmentPurple | 0 |
HueAdjustmentRed | 0 |
HueAdjustmentYellow | 0 |
HyperfocalDistance | 600.32 m |
ImageHeight | 900 |
ImageNumber | 21 |
ImageSize | 900x900 |
ImageWidth | 900 |
ISO | 400 |
Keywords | Kristiansund, Nordiic Light Festival |
Lens | EF300mm f/4L IS USM |
LensInfo | 300mm f/? |
LensManualDistortionAmount | 0 |
LensProfileEnable | 0 |
LensProfileSetup | LensDefaults |
LightValue | 12.6 |
LuminanceAdjustmentAqua | 0 |
LuminanceAdjustmentBlue | 0 |
LuminanceAdjustmentGreen | 0 |
LuminanceAdjustmentMagenta | 0 |
LuminanceAdjustmentOrange | -1 |
LuminanceAdjustmentPurple | 0 |
LuminanceAdjustmentRed | 0 |
LuminanceAdjustmentYellow | 0 |
LuminanceSmoothing | 0 |
Make | Canon |
Marked | True |
MaxApertureValue | 4.0 |
Megapixels | 0.810 |
MeteringMode | Spot |
Model | Canon EOS 5D |
ModifyDate (1) | 2011:03:23 20:38:56+01:00 |
ModifyDate | 2011:03:23 20:38:56 |
PaintCorrectionActive | true |
PaintCorrectionAmount | 1.000000 |
PaintCorrectionBrightness | 0.000000 |
PaintCorrectionClarity (2) | -1.000000 |
PaintCorrectionClarity | 0.000000 |
PaintCorrectionContrast (2) | 0.050000 |
PaintCorrectionContrast | 0.000000 |
PaintCorrectionExposure (1) | -0.350000 |
PaintCorrectionExposure (2) | 0.000000 |
PaintCorrectionExposure (3) | -0.293000 |
PaintCorrectionExposure | -0.098000 |
PaintCorrectionHue (2) | 240.000000 |
PaintCorrectionHue | 33.000000 |
PaintCorrectionMaskCenterWeight (4) | 0.188233 |
PaintCorrectionMaskCenterWeight | 0.323852 |
PaintCorrectionMaskFlow (4) | 1.000000 |
PaintCorrectionMaskFlow | 0.635000 |
PaintCorrectionMaskRadius (10) | 0.087414 |
PaintCorrectionMaskRadius (12) | 0.019589 |
PaintCorrectionMaskRadius (14) | 0.041102 |
PaintCorrectionMaskRadius (15) | 0.012960 |
PaintCorrectionMaskRadius (16) | 0.006544 |
PaintCorrectionMaskRadius (5) | 0.078885 |
PaintCorrectionMaskRadius (6) | 0.091733 |
PaintCorrectionMaskRadius (7) | 0.051154 |
PaintCorrectionMaskRadius (8) | 0.016371 |
PaintCorrectionMaskRadius | 0.008105 |
PaintCorrectionMaskValue (12) | 0.838000 |
PaintCorrectionMaskValue (2) | 0.288000 |
PaintCorrectionMaskValue | 0.726000 |
PaintCorrectionMaskWhat | Mask/Paint |
PaintCorrectionSaturation | 0.000000 |
PaintCorrectionSharpness (2) | -1.000000 |
PaintCorrectionSharpness | 0.000000 |
PaintCorrectionWhat | Correction |
ParametricDarks | -24 |
ParametricHighlights | +46 |
ParametricHighlightSplit | 75 |
ParametricLights | -3 |
ParametricMidtoneSplit | 50 |
ParametricShadows | +33 |
ParametricShadowSplit | 25 |
PerspectiveHorizontal | 0 |
PerspectiveRotate | 0.0 |
PerspectiveScale | 100 |
PerspectiveVertical | 0 |
PostCropVignetteAmount | -36 |
PostCropVignetteFeather | 84 |
PostCropVignetteHighlightContrast | 0 |
PostCropVignetteMidpoint | 26 |
PostCropVignetteRoundness | +31 |
PostCropVignetteStyle | 2 |
ProcessVersion | 5.0 |
ProfileDescription | sRGB IEC61966-2.1 |
RedHue | 0 |
RedSaturation | 0 |
Rights | Karel Krizak |
Saturation | -100 |
SaturationAdjustmentAqua | 0 |
SaturationAdjustmentBlue | 0 |
SaturationAdjustmentGreen | 0 |
SaturationAdjustmentMagenta | 0 |
SaturationAdjustmentOrange | -10 |
SaturationAdjustmentPurple | 0 |
SaturationAdjustmentRed | -7 |
SaturationAdjustmentYellow | 0 |
ScaleFactor35efl | 1.0 |
SceneCaptureType | Standard |
SerialNumber | 1230805008 |
Shadows | 10 |
ShadowTint | 0 |
SharpenDetail | 25 |
SharpenEdgeMasking | 0 |
SharpenRadius | +1.0 |
Sharpness | 22 |
ShutterSpeed | 1/1000 |
ShutterSpeedValue | 1/1000 |
SplitToningBalance | +44 |
SplitToningHighlightHue | 37 |
SplitToningHighlightSaturation | 0 |
SplitToningShadowHue | 246 |
SplitToningShadowSaturation | 0 |
Subject | Kristiansund, Nordiic Light Festival |
Tint | -99 |
ToneCurve | 0, 0, 32, 22, 64, 56, 128, 128, 192, 196, 255, 255 |
ToneCurveName | Medium Contrast |
Version | 6.1 |
Vibrance | 0 |
VignetteAmount | 0 |
WhiteBalance (2) | Custom |
WhiteBalance | Auto |