Felt | Verdi |
2009-11-04T18:25:57+01:00 File Bamble kirkeruiner_Ingeborg.jpg saved
2010-02-07T11:17:26+01:00 File Bamble kirkeruiner_Ingeborg.jpg opened
2010-02-27T19:55:46+01:00 File Mingus.jpg saved
AlreadyApplied | True |
Aperture | 5.6 |
ApertureValue | 5.6 |
Artist | Bjørn Helge Pettersen |
BitsPerSample | 8 |
BlueHue | 0 |
BlueSaturation | 0 |
Brightness | -26 |
BrightnessValue | 5 |
By-line | Bj¿rn Helge Pettersen |
CameraProfile | Embedded |
Caption-Abstract | Kattungen Mingus |
ChromaticAberrationB | 0 |
ChromaticAberrationR | 0 |
CircleOfConfusion | 0.020 mm |
Clarity | +9 |
ColorComponents | 3 |
ColorMode | RGB |
ColorNoiseReduction | 0 |
ColorSpace | sRGB |
Contrast (2) | +29 |
Contrast | Normal |
ConvertToGrayscale | False |
Copyright | Bildet kan bare benyttes/trykkes etter avtale med fotografen, og da skal det alltid merkes med "Foto: BJørn Helge Pettersen" |
CopyrightFlag | True |
CopyrightNotice | Bildet kan bare benyttes/trykkes etter avtale med fotografen, og da skal det alltid merkes med "Foto: BJ¿rn Helge Pettersen" |
CreateDate (1) | 2010:02:27 19:55:46+01:00 |
CreateDate | 2009:08:29 18:04:49 |
Creator | Bjørn Helge Pettersen |
CreatorAddress | Bakkane 41 D |
CreatorCity | Skien |
CreatorCountry | Norway |
CreatorPostalCode | 3728 |
CreatorRegion | Telemark |
CreatorTool | Adobe Photoshop CS3 Macintosh |
CreatorWorkEmail | b-hpett@online.no |
CreatorWorkTelephone | +47 45 00 81 10 |
CustomRendered | Normal |
DateCreated | 2009:08:29 |
DateTimeDigitized | 2009:08:29 18:04:49+02:00 |
DateTimeOriginal (1) | 2009:08:29 18:04:49+02:00 |
DateTimeOriginal | 2009:08:29 18:04:49 |
Defringe | 0 |
Description | Kattungen Mingus |
ExifImageHeight | 911 |
ExifImageWidth | 1280 |
Exposure | -0.40 |
ExposureCompensation | 0 |
ExposureMode | Auto |
ExposureProgram | Portrait |
ExposureTime | 1/125 |
FillLight | 13 |
Flash | Auto, Fired |
FlashFired | True |
FlashFunction | False |
FlashMode | Auto |
FlashRedEyeMode | False |
FlashReturn | No return detection |
FNumber | 5.6 |
FocalLength | 280.0 mm |
FocalLength35efl | 280.0 mm (35 mm equivalent: 420.0 mm) |
FocalLengthIn35mmFormat | 420 mm |
Format | image/jpeg |
FOV | 4.9 deg |
GreenHue | 0 |
GreenSaturation | 0 |
HasCrop | False |
HasSettings | True |
HighlightRecovery | 0 |
HueAdjustmentAqua | 0 |
HueAdjustmentBlue | 0 |
HueAdjustmentGreen | 0 |
HueAdjustmentMagenta | 0 |
HueAdjustmentOrange | 0 |
HueAdjustmentPurple | 0 |
HueAdjustmentRed | 0 |
HueAdjustmentYellow | 0 |
HyperfocalDistance | 698.92 m |
ICCProfileName | sRGB IEC61966-2.1 |
ImageDescription | Kattungen Mingus |
ImageHeight | 911 |
ImageSize | 1280x911 |
ImageWidth | 1280 |
IncrementalTemperature | 0 |
IncrementalTint | 0 |
ISO | 400 |
Keywords | Katter, Kattunger, Kj¾ledyr, Dyr |
LightSource | Unknown |
LightValue | 9.9 |
LuminanceAdjustmentAqua | 0 |
LuminanceAdjustmentBlue | 0 |
LuminanceAdjustmentGreen | 0 |
LuminanceAdjustmentMagenta | 0 |
LuminanceAdjustmentOrange | 0 |
LuminanceAdjustmentPurple | 0 |
LuminanceAdjustmentRed | 0 |
LuminanceAdjustmentYellow | 0 |
LuminanceSmoothing | 0 |
Make | SONY |
Marked | True |
MaxApertureValue | 5.6 |
Megapixels | 1.2 |
MeteringMode | Multi-segment |
Model | DSLR-A350 |
ModifyDate (1) | 2010:02:27 19:55:46+01:00 |
ModifyDate | 2010:02:27 19:55:46 |
ObjectName | Mingus |
Orientation | Horizontal (normal) |
ParametricDarks | 0 |
ParametricHighlights | 0 |
ParametricHighlightSplit | 75 |
ParametricLights | 0 |
ParametricMidtoneSplit | 50 |
ParametricShadows | 0 |
ParametricShadowSplit | 25 |
PostCropVignetteAmount | 0 |
ProfileDescription | sRGB IEC61966-2.1 |
Rating | 0 |
RawFileName | Mingus.jpg |
RedHue | 0 |
RedSaturation | 0 |
Rights | Bildet kan bare benyttes/trykkes etter avtale med fotografen, og da skal det alltid merkes med "Foto: BJørn Helge Pettersen" |
Saturation (2) | +21 |
Saturation | Normal |
SaturationAdjustmentAqua | 0 |
SaturationAdjustmentBlue | 0 |
SaturationAdjustmentGreen | 0 |
SaturationAdjustmentMagenta | 0 |
SaturationAdjustmentOrange | 0 |
SaturationAdjustmentPurple | 0 |
SaturationAdjustmentRed | 0 |
SaturationAdjustmentYellow | 0 |
ScaleFactor35efl | 1.5 |
Scene | Portrett av kattungen Mingus |
SceneCaptureType | Portrait |
SceneType | Directly photographed |
Shadows | 7 |
ShadowTint | 0 |
SharpenDetail | 25 |
SharpenEdgeMasking | 0 |
SharpenRadius | +1.0 |
Sharpness (2) | 0 |
Sharpness | Normal |
ShutterSpeed | 1/125 |
ShutterSpeedValue | 1/125 |
SidecarForExtension | ARW |
Software | Adobe Photoshop CS3 Macintosh |
SplitToningBalance | 0 |
SplitToningHighlightHue | 0 |
SplitToningHighlightSaturation | 0 |
SplitToningShadowHue | 0 |
SplitToningShadowSaturation | 0 |
StartupProfile | Print |
Subject | Katter, Kattunger, Kjæledyr, Dyr |
Title | Mingus |
ToneCurve | 0, 0, 255, 255 |
ToneCurveName | Linear |
URL_List | |
Version | 4.6 |
Vibrance | 0 |
VignetteAmount | 0 |
WhiteBalance (2) | As Shot |
WhiteBalance | Auto |