Felt | Verdi |
AlreadyApplied | True |
Aperture | 8.0 |
ApertureValue | 8.0 |
Artist | p8p8HJJ |
BitsPerSample | 8 |
BlueHue | 0 |
BlueSaturation | 0 |
Brightness | +7 |
By-line | p8p8HJJ |
CameraProfile | Embedded |
ChromaticAberrationB | 0 |
ChromaticAberrationR | 0 |
CircleOfConfusion | 0.004 mm |
Clarity | -21 |
ColorComponents | 3 |
ColorMode | RGB |
ColorNoiseReduction | 0 |
ColorSpace (1) | Unknown (-1) |
ColorSpace | Uncalibrated |
Contrast | 0 |
ConvertToGrayscale | False |
CopyrightFlag | False |
CreateDate (1) | 2010:01:09 23:35:05Z |
CreateDate | 2010:01:09 22:30:22 |
Creator | p8p8HJJ |
CreatorTool | Adobe Photoshop CS3 Windows |
CropAngle | 0 |
CropBottom | 0.963916 |
CropHeight | 5906 |
CropLeft | 0.017094 |
CropRight | 0.977208 |
CropTop | 0.003802 |
CropUnit | pixels |
CropWidth | 3937 |
CustomRendered | Normal |
DateTimeDigitized | 2010:01:09 22:30:22Z |
DateTimeOriginal (1) | 2010:01:09 22:30:22Z |
DateTimeOriginal | 2010:01:09 22:30:22 |
Defringe | 0 |
DerivedFrom | |
ExifImageHeight | 567 |
ExifImageWidth | 378 |
Exposure | +0.95 |
ExposureCompensation | 0 |
ExposureMode | Manual |
ExposureProgram | Manual |
ExposureTime | 1/125 |
FillLight | 0 |
Firmware | Asgeirsson |
Flash | Off, Did not fire |
FlashCompensation | 0 |
FlashFired | False |
FlashFunction | False |
FlashMode | Off |
FlashRedEyeMode | False |
FlashReturn | No return detection |
FNumber | 8.0 |
FocalLength | 70.0 mm |
FocalLength35efl | 70.0 mm (35 mm equivalent: 540.4 mm) |
Format | image/jpeg |
FOV | 3.8 deg |
GreenHue | 0 |
GreenSaturation | 0 |
HasCrop | True |
HasSettings | True |
HighlightRecovery | 0 |
HueAdjustmentAqua | 0 |
HueAdjustmentBlue | 0 |
HueAdjustmentGreen | 0 |
HueAdjustmentMagenta | 0 |
HueAdjustmentOrange | 0 |
HueAdjustmentPurple | 0 |
HueAdjustmentRed | 0 |
HueAdjustmentYellow | 0 |
HyperfocalDistance | 157.37 m |
ICCProfileName | Adobe RGB (1998) |
ImageHeight (1) | 5906 |
ImageHeight | 567 |
ImageNumber | 27952 |
ImageSize | 378x567 |
ImageWidth (1) | 3937 |
ImageWidth | 378 |
IncrementalTemperature | -5 |
IncrementalTint | 0 |
ISO | 100 |
LightValue | 13.0 |
LuminanceAdjustmentAqua | 0 |
LuminanceAdjustmentBlue | 0 |
LuminanceAdjustmentGreen | 0 |
LuminanceAdjustmentMagenta | 0 |
LuminanceAdjustmentOrange | 0 |
LuminanceAdjustmentPurple | 0 |
LuminanceAdjustmentRed | 0 |
LuminanceAdjustmentYellow | 0 |
LuminanceSmoothing | 56 |
Make | Canon |
Megapixels | 0.214 |
MeteringMode | Multi-segment |
Model | Canon EOS 5D |
ModifyDate (1) | 2010:01:09 23:35:05Z |
ModifyDate | 2010:01:09 23:35:05 |
Orientation | Horizontal (normal) |
OwnerName | p8p8HJJ |
ParametricDarks | 0 |
ParametricHighlights | 0 |
ParametricHighlightSplit | 75 |
ParametricLights | 0 |
ParametricMidtoneSplit | 50 |
ParametricShadows | 0 |
ParametricShadowSplit | 25 |
PostCropVignetteAmount | -14 |
PostCropVignetteFeather | 77 |
PostCropVignetteMidpoint | 64 |
PostCropVignetteRoundness | -69 |
ProfileDescription | Adobe RGB (1998) |
RedHue | 0 |
RedSaturation | 0 |
Saturation | -12 |
SaturationAdjustmentAqua | 0 |
SaturationAdjustmentBlue | 0 |
SaturationAdjustmentGreen | 0 |
SaturationAdjustmentMagenta | 0 |
SaturationAdjustmentOrange | 0 |
SaturationAdjustmentPurple | 0 |
SaturationAdjustmentRed | 0 |
SaturationAdjustmentYellow | 0 |
ScaleFactor35efl | 7.7 |
SceneCaptureType | Standard |
SerialNumber | 1330805581 |
Shadows | 1 |
ShadowTint | 0 |
SharpenDetail | 25 |
SharpenEdgeMasking | 0 |
SharpenRadius | +1.0 |
Sharpness | 30 |
ShutterSpeed | 1/125 |
ShutterSpeedValue | 1/125 |
Software | Adobe Photoshop CS3 Windows |
SplitToningBalance | 0 |
SplitToningHighlightHue | 0 |
SplitToningHighlightSaturation | 0 |
SplitToningShadowHue | 0 |
SplitToningShadowSaturation | 0 |
ToneCurve | 0, 0, 255, 255 |
ToneCurveName | Linear |
URL_List | |
Version | 5.2 |
Vibrance | -14 |
VignetteAmount | -100 |
VignetteMidpoint | 21 |
WhiteBalance (2) | Custom |
WhiteBalance | Auto |