Felt | Verdi |
AlreadyApplied | True |
Aperture | 5.0 |
ApertureValue | 5.0 |
BitsPerSample | 8 |
BlackClip | 0.131500 |
BlueHue | 0 |
BlueSaturation | 0 |
Brightness | +21 |
CameraProfile | Embedded |
ChromaticAberrationB | 0 |
ChromaticAberrationR | 0 |
Clarity | +45 |
ColorComponents | 3 |
ColorNoiseReduction | 16 |
ColorSaturation | 67.0 |
ColorTemperature | 0.0 |
Contrast | +30 |
ConvertToGrayscale | False |
CreateDate | 2009:09:27 17:03:18+02:00 |
CreatorTool | Adobe Photoshop Lightroom |
CropAngle | 1.1233 |
CropBottom | 0.922313 |
CropHeight | 2057 |
CropLeft | 0.040118 |
CropRight | 0.989346 |
CropTop | 0.077898 |
CropUnit | pixels |
CropWidth | 3634 |
DateTimeOriginal (1) | 2009:09:27 17:03:18+02:00 |
DateTimeOriginal | 2009:09:27 17:03:18 |
Defringe | 0 |
ExifImageHeight | 2057 |
ExifImageWidth | 3634 |
Exposure | +0.38 |
ExposureTime | 1/1300 |
FillLight | 47 |
FNumber | 5.0 |
FocalLength | 17.0 mm |
FocalLength35efl | 17.0 mm |
Gamma | 1.2 |
GreenHue | 0 |
GreenSaturation | 0 |
HasCrop | True |
HasSettings | True |
HighlightRecovery | 14 |
HighlightsSmoothing | 0.0 |
HueAdjustmentAqua | 0 |
HueAdjustmentBlue | 0 |
HueAdjustmentGreen | 0 |
HueAdjustmentMagenta | 0 |
HueAdjustmentOrange | 0 |
HueAdjustmentPurple | 0 |
HueAdjustmentRed | 0 |
HueAdjustmentYellow | -100 |
ImageHeight | 2057 |
ImageSize | 3634x2057 |
ImageWidth | 3634 |
IncrementalTemperature | +5 |
IncrementalTint | 0 |
ISO | 100 |
LightValue | 15.0 |
LuminanceAdjustmentAqua | 0 |
LuminanceAdjustmentBlue | 0 |
LuminanceAdjustmentGreen | 0 |
LuminanceAdjustmentMagenta | 0 |
LuminanceAdjustmentOrange | 0 |
LuminanceAdjustmentPurple | 0 |
LuminanceAdjustmentRed | 0 |
LuminanceAdjustmentYellow | 0 |
LuminanceSmoothing | 0 |
Luminosity | 10.0 |
Megapixels | 7.5 |
Method | Details Enhancer |
Microcontrast | 10.0 |
Microsmoothing | 2.0 |
Model | Canon EOS 40D |
ModifyDate (1) | 2009:09:27 20:30:31+02:00 |
ModifyDate | 2009:09:27 20:30:31 |
PaintCorrectionActive | true |
PaintCorrectionAmount | 1.000000 |
PaintCorrectionBrightness | 0.000000 |
PaintCorrectionClarity | 0.000000 |
PaintCorrectionContrast | 0.000000 |
PaintCorrectionExposure (1) | 0.250000 |
PaintCorrectionExposure | -0.250000 |
PaintCorrectionHue | 57.000000 |
PaintCorrectionMaskCenterWeight | 0.000000 |
PaintCorrectionMaskFlow | 1.000000 |
PaintCorrectionMaskRadius (1) | 0.080158 |
PaintCorrectionMaskRadius | 0.163811 |
PaintCorrectionMaskValue | 0.488000 |
PaintCorrectionMaskWhat | Mask/Paint |
PaintCorrectionSaturation | 0.000000 |
PaintCorrectionSharpness | 0.000000 |
PaintCorrectionWhat | Correction |
ParametricDarks | -11 |
ParametricHighlights | +18 |
ParametricHighlightSplit | 75 |
ParametricLights | -6 |
ParametricMidtoneSplit | 50 |
ParametricShadows | -46 |
ParametricShadowSplit | 25 |
PostCropVignetteAmount | 0 |
ProfileDescription | sRGB IEC61966-2.1 |
RedHue | 0 |
RedSaturation | 0 |
Saturation | -2 |
SaturationAdjustmentAqua | -100 |
SaturationAdjustmentBlue | 0 |
SaturationAdjustmentGreen | 0 |
SaturationAdjustmentMagenta | 0 |
SaturationAdjustmentOrange | 0 |
SaturationAdjustmentPurple | 0 |
SaturationAdjustmentRed | 0 |
SaturationAdjustmentYellow | 0 |
SaturationHighlights | 0.3 |
SaturationShadows | 0.0 |
Shadows | 6 |
ShadowsClipping | 0.0 |
ShadowsSmoothing | 0.0 |
ShadowTint | 0 |
SharpenDetail | 25 |
SharpenEdgeMasking | 0 |
SharpenRadius | +1.0 |
Sharpness | 14 |
ShutterSpeed | 1/1300 |
ShutterSpeedValue | 1/1300 |
Smoothing | Very High |
SplitToningBalance | +27 |
SplitToningHighlightHue | 30 |
SplitToningHighlightSaturation | 1 |
SplitToningShadowHue | 38 |
SplitToningShadowSaturation | 0 |
Strength | 72.0 |
ToneCurve | 0, 0, 255, 255 |
ToneCurveName | Linear |
Version (1) | 3.2 |
Version | 5.4 |
Vibrance | +2 |
VignetteAmount | +29 |
VignetteMidpoint | 0 |
WhiteBalance | Custom |
WhiteClip | 0.393200 |