Felt | Verdi |
AlreadyApplied | True |
Aperture | 7.1 |
ApertureValue | 7.1 |
BitsPerSample | 8 |
BlueHue | -7 |
BlueSaturation | +2 |
Brightness | +57 |
By-line | Thomas Holm |
CameraProfile | Adobe Standard |
CFAPattern | [Red,Green][Green,Blue] |
ChromaticAberrationB | 0 |
ChromaticAberrationR | 0 |
Clarity | +50 |
ColorComponents | 3 |
ColorNoiseReduction | 25 |
ColorTemperature | 5810 |
Contrast (2) | +39 |
Contrast | Normal |
ConvertToGrayscale | False |
Copyright | (C) ThomasHolm.no |
CopyrightFlag | True |
CopyrightNotice | © ThomasHolm.no |
CreateDate (1) | 2009:09:19 08:07:09+02:00 |
CreateDate | 2009:09:19 08:07:09 |
Creator | Thomas Holm |
CreatorTool | Adobe Photoshop Lightroom |
CreatorWorkURL | www.thomasholm.no |
CropAngle | -0.348364 |
CropBottom | 0.991958 |
CropHeight | 768 |
CropLeft | 0.001759 |
CropRight | 0.998241 |
CropTop | 0.008042 |
CropUnit | pixels |
CropWidth | 1024 |
CustomRendered | Normal |
DateTimeDigitized | 2009:09:19 08:07:09+02:00 |
DateTimeOriginal (1) | 2009:09:19 08:07:09+02:00 |
DateTimeOriginal | 2009:09:19 08:07:09 |
Defringe | 0 |
Description | |
DigitalZoomRatio | 1 |
ExifImageHeight | 768 |
ExifImageWidth | 1024 |
Exposure | +0.48 |
ExposureCompensation | +0.7 |
ExposureMode | Manual |
ExposureProgram | Aperture-priority AE |
ExposureTime | 1/80 |
FillLight | 30 |
Flash | On, Did not fire |
FlashCompensation | 0 |
FlashFired | False |
FlashFunction | False |
FlashMode | On |
FlashRedEyeMode | False |
FlashReturn | No return detection |
FNumber | 7.1 |
FocalLength | 8.0 mm |
FocalLength35efl | 8.0 mm |
GainControl | Low gain up |
GradientBasedCorrActive | true |
GradientBasedCorrAmount | 1.000000 |
GradientBasedCorrBrightness | 0.000000 |
GradientBasedCorrClarity | 0.000000 |
GradientBasedCorrContrast | 0.000000 |
GradientBasedCorrExposure | 0.000000 |
GradientBasedCorrHue | 227.000000 |
GradientBasedCorrMaskFullX | 0.456517 |
GradientBasedCorrMaskFullY | 0.019303 |
GradientBasedCorrMaskValue | 1.000000 |
GradientBasedCorrMaskWhat | Mask/Gradient |
GradientBasedCorrMaskZeroX | 0.456104 |
GradientBasedCorrMaskZeroY | 0.678825 |
GradientBasedCorrSaturation (1) | 0.000000 |
GradientBasedCorrSaturation | 0.592000 |
GradientBasedCorrSharpness | 0.000000 |
GradientBasedCorrWhat | Correction |
GreenHue | +5 |
GreenSaturation | +7 |
HasCrop | True |
HasSettings | True |
HighlightRecovery | 70 |
HueAdjustmentAqua | +7 |
HueAdjustmentBlue | +2 |
HueAdjustmentGreen | -2 |
HueAdjustmentMagenta | -5 |
HueAdjustmentOrange | +14 |
HueAdjustmentPurple | +5 |
HueAdjustmentRed | +10 |
HueAdjustmentYellow | +10 |
ImageHeight | 768 |
ImageSize | 1024x768 |
ImageWidth | 1024 |
ISO | 200 |
Keywords | ATV, Cooper, Steffen, aina, alvdal, bettina, lars, morris, tur |
Lens | 7.0-14.0 mm f/4.0 |
LensInfo | 7-14mm f/4 |
LensSerialNumber | 110005220 |
LightSource | Cloudy |
LightValue | 11.0 |
LuminanceAdjustmentAqua | 0 |
LuminanceAdjustmentBlue | 0 |
LuminanceAdjustmentGreen | +5 |
LuminanceAdjustmentMagenta | 0 |
LuminanceAdjustmentOrange | -12 |
LuminanceAdjustmentPurple | -5 |
LuminanceAdjustmentRed | -21 |
LuminanceAdjustmentYellow | -10 |
LuminanceSmoothing | 21 |
Make | OLYMPUS IMAGING CORP. |
Marked | True |
MaxApertureValue | 4.0 |
Megapixels | 0.786 |
MeteringMode | Center-weighted average |
Model | E-3 |
ModifyDate (1) | 2009:12:13 20:52:37+01:00 |
ModifyDate | 2009:12:13 20:52:37 |
ParametricDarks | -19 |
ParametricHighlights | -5 |
ParametricHighlightSplit | 75 |
ParametricLights | +31 |
ParametricMidtoneSplit | 50 |
ParametricShadows | -24 |
ParametricShadowSplit | 25 |
PostCropVignetteAmount | 0 |
ProfileDescription | sRGB IEC61966-2.1 |
RedHue | 0 |
RedSaturation | 0 |
Rights | © ThomasHolm.no |
Saturation (2) | +17 |
Saturation | High |
SaturationAdjustmentAqua | -10 |
SaturationAdjustmentBlue | -7 |
SaturationAdjustmentGreen | +10 |
SaturationAdjustmentMagenta | +2 |
SaturationAdjustmentOrange | -10 |
SaturationAdjustmentPurple | +12 |
SaturationAdjustmentRed | +2 |
SaturationAdjustmentYellow | +7 |
SceneCaptureType | Standard |
SerialNumber | D70519750 |
Shadows | 11 |
ShadowTint | 0 |
SharpenDetail | 79 |
SharpenEdgeMasking | 27 |
SharpenRadius | +0.7 |
Sharpness (2) | 73 |
Sharpness | Normal |
ShutterSpeed | 1/80 |
ShutterSpeedValue | 1/80 |
Software | Version 1.4 |
SplitToningBalance | +14 |
SplitToningHighlightHue | 244 |
SplitToningHighlightSaturation | 11 |
SplitToningShadowHue | 34 |
SplitToningShadowSaturation | 19 |
Subject | ATV, Cooper, Steffen, aina, alvdal, bettina, lars, morris, tur |
Tint | 0 |
ToneCurve | 0, 0, 32, 22, 64, 56, 128, 128, 192, 196, 255, 255 |
ToneCurveName | Medium Contrast |
UsageTerms | No copying without permission! |
Version | 5.6 |
Vibrance | +31 |
VignetteAmount | 0 |
WhiteBalance (2) | Custom |
WhiteBalance | Manual |