Felt | Verdi |
AlreadyApplied | True |
Aperture | 10.0 |
ApertureValue | 10.0 |
Artist | unknown |
BitsPerSample | 8 |
BlueHue | 0 |
BlueSaturation | 0 |
Brightness | +50 |
By-line | unknown |
CameraProfile | ACR 4.4 |
ChromaticAberrationB | 0 |
ChromaticAberrationR | 0 |
CircleOfConfusion | 0.019 mm |
Clarity | +100 |
ColorComponents | 3 |
ColorMode | RGB |
ColorNoiseReduction | 25 |
ColorSpace (1) | Unknown (-1) |
ColorSpace | Uncalibrated |
ColorTemperature | 6000 |
Contrast | +100 |
ConvertToGrayscale | False |
CopyrightFlag | False |
CreateDate (1) | 2009:05:26 21:19:03+02:00 |
CreateDate | 2009:03:31 18:40:23 |
Creator | unknown |
CreatorTool | Adobe Photoshop CS3 Macintosh |
CustomRendered | Normal |
DateTimeDigitized | 2009:03:31 18:40:23+02:00 |
DateTimeOriginal (1) | 2009:03:31 18:40:23+02:00 |
DateTimeOriginal | 2009:03:31 18:40:23 |
Defringe | 0 |
ExifImageHeight | 1000 |
ExifImageWidth | 667 |
Exposure | 0.00 |
ExposureCompensation | 0 |
ExposureMode | Manual |
ExposureProgram | Manual |
ExposureTime | 1/160 |
FillLight | 81 |
Firmware | 1.0.5 |
Flash | On, Red-eye reduction |
FlashCompensation | 0 |
FlashFired | True |
FlashFunction | False |
FlashMode | On |
FlashRedEyeMode | True |
FlashReturn | No return detection |
FNumber | 10.0 |
FocalLength | 30.0 mm |
FocalLength35efl | 30.0 mm (35 mm equivalent: 48.6 mm) |
Format | image/jpeg |
FOV | 40.7 deg |
GreenHue | 0 |
GreenSaturation | 0 |
HasCrop | False |
HasSettings | True |
HighlightRecovery | 46 |
HueAdjustmentAqua | 0 |
HueAdjustmentBlue | 0 |
HueAdjustmentGreen | 0 |
HueAdjustmentMagenta | 0 |
HueAdjustmentOrange | 0 |
HueAdjustmentPurple | 0 |
HueAdjustmentRed | 0 |
HueAdjustmentYellow | 0 |
HyperfocalDistance | 4.85 m |
ICCProfileName | Adobe RGB (1998) |
ImageHeight | 1000 |
ImageNumber | 64 |
ImageSize | 667x1000 |
ImageWidth | 667 |
ISO | 100 |
Lens | 30.0 mm |
LensInfo | 30mm f/? |
LightValue | 14.0 |
LuminanceAdjustmentAqua | 0 |
LuminanceAdjustmentBlue | 0 |
LuminanceAdjustmentGreen | 0 |
LuminanceAdjustmentMagenta | 0 |
LuminanceAdjustmentOrange | 0 |
LuminanceAdjustmentPurple | 0 |
LuminanceAdjustmentRed | 0 |
LuminanceAdjustmentYellow | 0 |
LuminanceSmoothing | 0 |
Make | Canon |
MaxApertureValue | 1.4 |
Megapixels | 0.667 |
MeteringMode | Partial |
Model | Canon EOS 400D DIGITAL |
ModifyDate (1) | 2009:05:26 21:19:03+02:00 |
ModifyDate | 2009:05:26 21:19:03 |
Orientation | Horizontal (normal) |
OwnerName | unknown |
ParametricDarks | 0 |
ParametricHighlights | 0 |
ParametricHighlightSplit | 75 |
ParametricLights | 0 |
ParametricMidtoneSplit | 50 |
ParametricShadows | 0 |
ParametricShadowSplit | 25 |
PostCropVignetteAmount | 0 |
ProfileDescription | Adobe RGB (1998) |
Rating | 0 |
RawFileName | IMG_0020.CR2 |
RedHue | 0 |
RedSaturation | 0 |
Saturation | +18 |
SaturationAdjustmentAqua | 0 |
SaturationAdjustmentBlue | 0 |
SaturationAdjustmentGreen | 0 |
SaturationAdjustmentMagenta | 0 |
SaturationAdjustmentOrange | 0 |
SaturationAdjustmentPurple | 0 |
SaturationAdjustmentRed | 0 |
SaturationAdjustmentYellow | 0 |
ScaleFactor35efl | 1.6 |
SceneCaptureType | Standard |
SerialNumber | 930574090 |
Shadows | 5 |
ShadowTint | 0 |
SharpenDetail | 25 |
SharpenEdgeMasking | 0 |
SharpenRadius | +1.0 |
Sharpness | 25 |
ShutterSpeed | 1/160 |
ShutterSpeedValue | 1/160 |
SidecarForExtension | CR2 |
Software | Adobe Photoshop CS3 Macintosh |
SplitToningBalance | 0 |
SplitToningHighlightHue | 0 |
SplitToningHighlightSaturation | 0 |
SplitToningShadowHue | 0 |
SplitToningShadowSaturation | 0 |
Tint | 0 |
ToneCurve | 0, 0, 32, 22, 64, 56, 128, 128, 192, 196, 255, 255 |
ToneCurveName | Medium Contrast |
URL_List | |
Version | 4.6 |
Vibrance | -48 |
VignetteAmount | -100 |
VignetteMidpoint | 10 |
WhiteBalance (2) | As Shot |
WhiteBalance | Auto |