Felt | Verdi |
AlreadyApplied | True |
Aperture | 2.8 |
ApertureValue | 2.8 |
BitsPerSample | 8 |
BlueHue | 0 |
BlueSaturation | 0 |
Brightness | 0 |
CameraProfile | Embedded |
ChromaticAberrationB | 0 |
ChromaticAberrationR | 0 |
CircleOfConfusion | 0.005 mm |
ColorComponents | 1 |
ColorNoiseReduction | 0 |
ColorSpace | sRGB |
Contrast (2) | 0 |
Contrast | Normal |
ConvertToGrayscale | False |
CreateDate | 2005:04:06 23:18:44 |
CreatorTool | Adobe Photoshop Lightroom |
CustomRendered | Custom |
DateTimeDigitized | 2005:04:06 23:18:44+02:00 |
DateTimeOriginal (1) | 2005:04:06 23:18:44+02:00 |
DateTimeOriginal | 2005:04:06 23:18:44 |
DigitalZoomRatio | 0 |
ExifImageHeight | 600 |
ExifImageWidth | 800 |
Exposure | 0.00 |
ExposureCompensation | 0 |
ExposureMode | Manual |
ExposureProgram | Program AE |
ExposureTime | 1/320 |
FillLight | 0 |
Flash | On, Fired |
FlashFired | True |
FlashFunction | False |
FlashMode | On |
FlashRedEyeMode | False |
FlashReturn | No return detection |
FNumber | 2.8 |
FocalLength | 5.8 mm |
FocalLength35efl | 5.8 mm (35 mm equivalent: 38.0 mm) |
FocalLengthIn35mmFormat | 38 mm |
FOV | 50.7 deg |
GainControl | None |
GreenHue | 0 |
GreenSaturation | 0 |
HasCrop | False |
HasSettings | True |
HighlightRecovery | 0 |
HueAdjustmentAqua | 0 |
HueAdjustmentBlue | 0 |
HueAdjustmentGreen | 0 |
HueAdjustmentMagenta | 0 |
HueAdjustmentOrange | 0 |
HueAdjustmentPurple | 0 |
HueAdjustmentRed | 0 |
HueAdjustmentYellow | 0 |
HyperfocalDistance | 2.62 m |
ImageHeight (1) | 1536 |
ImageHeight | 600 |
ImageSize | 800x600 |
ImageWidth (1) | 2048 |
ImageWidth | 800 |
IncrementalTemperature | 0 |
IncrementalTint | 0 |
ISO | 50 |
LightSource | Unknown |
LightValue | 12.3 |
LuminanceAdjustmentAqua | 0 |
LuminanceAdjustmentBlue | 0 |
LuminanceAdjustmentGreen | 0 |
LuminanceAdjustmentMagenta | 0 |
LuminanceAdjustmentOrange | 0 |
LuminanceAdjustmentPurple | 0 |
LuminanceAdjustmentRed | 0 |
LuminanceAdjustmentYellow | 0 |
LuminanceSmoothing | 0 |
Make | NIKON |
MaxApertureValue | 2.8 |
Megapixels | 0.480 |
MeteringMode | Multi-segment |
Model | E3200 |
ModifyDate (1) | 2007:06:03 22:47:53+02:00 |
ModifyDate | 2007:06:03 22:47:53 |
PageName | 5?633165096121718750?178086?0?1?1:800:569?C:\Documents and Settings\LitlaMus?\Mine dokumenter\Mine bilder\Untitled Export\006.jpg |
ParametricDarks | +8 |
ParametricHighlights | +22 |
ParametricHighlightSplit | 75 |
ParametricLights | +1 |
ParametricMidtoneSplit | 50 |
ParametricShadows | -44 |
ParametricShadowSplit | 25 |
ProfileDescription | Adobe RGB (1998) |
RedHue | 0 |
RedSaturation | 0 |
ReferenceBlackWhite | 0 255 128 255 128 255 |
Saturation (2) | 0 |
Saturation | Normal |
SaturationAdjustmentAqua | 0 |
SaturationAdjustmentBlue | 0 |
SaturationAdjustmentGreen | 0 |
SaturationAdjustmentMagenta | 0 |
SaturationAdjustmentOrange | 0 |
SaturationAdjustmentPurple | 0 |
SaturationAdjustmentRed | 0 |
SaturationAdjustmentYellow | 0 |
ScaleFactor35efl | 6.6 |
SceneCaptureType | Standard |
SceneType | Directly photographed |
Shadows | 0 |
ShadowTint | 0 |
Sharpness (2) | 0 |
Sharpness | Normal |
ShutterSpeed | 1/320 |
ShutterSpeedValue | 1/320 |
Software | E3200v1.1 |
SplitToningBalance | 0 |
SplitToningHighlightHue | 0 |
SplitToningHighlightSaturation | 0 |
SplitToningShadowHue | 0 |
SplitToningShadowSaturation | 0 |
SubjectDistanceRange | Unknown |
ToneCurve | 0, 0, 255, 255 |
ToneCurveName | Linear |
Version | 1.0 |
Vibrance | 0 |
VignetteAmount | 0 |
WhiteBalance (2) | As Shot |
WhiteBalance | Auto |