Felt | Verdi |
AELock | Off |
AFAreas | (115,117)-(138,137) |
AFFineTune | Off |
AFFineTuneAdj | 0 0 0 |
AFPoint | Left (or n/a) |
AFPointSelected | (49%,49%) (49%,49%) |
AFSearch | Ready |
AlreadyApplied | True |
Aperture | 7.1 |
ApertureValue | 7.1 |
ArtFilter | Off; 0; 0; 0 |
ArtFilterEffect | Off; 0; 0; Partial Color 0; No Effect; 0; No Color Filter; 0; 0; 0; 0; 0; 0; 0; 0; 0; 0; 0; 0; 0 |
AspectFrame | 0 0 4607 3455 |
AspectRatio | 4:3 |
AutoLateralCA | 0 |
AutoWhiteVersion | 134348800 |
BitsPerSample | 8 |
BlackLevel2 | 248 249 249 248 |
Blacks2012 | 0 |
BlueBalance | 2.03125 |
BlueHue | 0 |
BlueSaturation | 0 |
BodyFirmwareVersion | 1.103 |
CameraID | OLYMPUS DIGITAL CAMERA |
CameraProfile | Adobe Standard |
CameraSettingsVersion | 0100 |
CameraType2 | E-M10MarkII |
CFAPattern | [Red,Green][Green,Blue] |
CircleOfConfusion | 0.015 mm |
Clarity2012 | 0 |
ColorComponents | 3 |
ColorCreatorEffect | Color 0; 0; 29; Strength 0; -4; 3 |
ColorMatrix | 422 -136 -30 -64 380 -60 14 -136 378 |
ColorNoiseReduction | 25 |
ColorNoiseReductionDetail | 50 |
ColorNoiseReductionSmoothness | 50 |
ColorSpace (1) | sRGB |
ColorSpace | Uncalibrated |
ColorTemperature | 4250 |
Contrast | Normal |
Contrast2012 | 0 |
ContrastSetting | 0 (min -5, max 5) |
ConversionLens | |
ConvertToGrayscale | False |
CreateDate | 2017:08:19 11:43:34 |
CreatorTool | DxO PhotoLab 7.3 |
CropAngle | 0 |
CropBottom | 0.820268 |
CropConstrainToWarp | 0 |
CropHeight | 3456 |
CropLeft (1) | 8 0 |
CropLeft | 0 |
CropRight | 0.819355 |
CropTop (1) | 8 0 |
CropTop | 0.028681 |
CropWidth | 4608 |
CustomRendered | Normal |
CustomSaturation | 0 (min -5, max 5) |
DateTimeUTC | 2017:08:19 09:43:34 |
DefringeGreenAmount | 0 |
DefringeGreenHueHi | 60 |
DefringeGreenHueLo | 40 |
DefringePurpleAmount | 0 |
DefringePurpleHueHi | 70 |
DefringePurpleHueLo | 30 |
Dehaze | 0 |
Description | OLYMPUS DIGITAL CAMERA |
DigitalZoomRatio | 1 |
DistortionCorrection | Off |
DistortionCorrection2 | Off |
DOF | 0.004 m (0.278 - 0.282 m) |
DriveMode | Continuous Shooting, Shot 1 |
EquipmentVersion | 0100 |
ExifImageHeight (1) | 3456 |
ExifImageHeight | 1522 |
ExifImageWidth (1) | 4608 |
ExifImageWidth | 2000 |
Exposure2012 | +0.83 |
ExposureCompensation | 0 |
ExposureMode (1) | Aperture-priority AE |
ExposureMode | Auto |
ExposureProgram | Aperture-priority AE |
ExposureShift | 0 |
ExposureTime | 1/400 |
ExtendedWBDetect | Off |
Extender | None |
ExtenderFirmwareVersion | 0 |
ExtenderModel | |
ExtenderSerialNumber | |
ExtenderStatus | Not attached |
ExternalFlash | Off |
ExternalFlashBounce | Bounce or Off |
ExternalFlashZoom | 0 |
FaceDetectFrameCrop | 0 0 640 480 0 0 640 480 0 0 0 0 |
FaceDetectFrameSize | 640 480 640 480 0 0 |
FacesDetected | 0 0 0 |
Flash | On, Did not fire |
FlashCompensation | 0 |
FlashControlMode | Off; 0; 0; 0 |
FlashExposureComp | 0 |
FlashFired | False |
FlashFirmwareVersion | 0 |
FlashFunction | False |
FlashIntensity | n/a (x4) |
FlashMode (1) | On |
FlashMode | Fill-in |
FlashModel | None |
FlashRedEyeMode | False |
FlashRemoteControl | Off |
FlashReturn | No return detection |
FlashSerialNumber | |
FlashType | None |
FNumber | 7.1 |
FocalLength | 60.0 mm |
FocalLength35efl | 60.0 mm (35 mm equivalent: 120.0 mm) |
FocalLengthIn35mmFormat | 120 mm |
FocusDistance | 0.28 m |
FocusInfoVersion | 0100 |
FocusMode | MF; S-AF, MF, Imager AF |
FocusProcess | AF Used; 64 |
FocusStepCount | 9924 |
FocusStepInfinity | 0 |
FocusStepNear | 0 |
FOV | 13.4 deg (0.07 m) |
GainBase | 256 |
GainControl | High gain up |
GPSVersionID | 2.3.0.0 |
Gradation | Normal; User-Selected |
GrainAmount | 0 |
GreenHue | 0 |
GreenSaturation | 0 |
HasCrop | True |
HasSettings | True |
HierarchicalSubject | edderkopp |
Highlights2012 | -17 |
HueAdjustmentAqua | 0 |
HueAdjustmentBlue | 0 |
HueAdjustmentGreen | 0 |
HueAdjustmentMagenta | 0 |
HueAdjustmentOrange | 0 |
HueAdjustmentPurple | 0 |
HueAdjustmentRed | 0 |
HueAdjustmentYellow | 0 |
HyperfocalDistance | 33.75 m |
ImageDescription | OLYMPUS DIGITAL CAMERA |
ImageHeight (1) | 3456 |
ImageHeight | 1522 |
ImageProcessingVersion | 0112 |
ImageSize | 2000x1522 |
ImageStabilization | On, Mode 4 |
ImageWidth (1) | 4608 |
ImageWidth | 2000 |
InternalFlash | Off |
InternalSerialNumber | 4173510059036001 |
ISO | 800 |
KeystoneCompensation | Off |
KeystoneDirection | Vertical |
KeystoneValue | 0 -20 20 |
Lens | OLYMPUS M.60mm F2.8 Macro |
LensFirmwareVersion | 1.200 |
LensID | Olympus M.Zuiko Digital ED 60mm F2.8 Macro |
LensInfo | 60mm f/2.8 |
LensManualDistortionAmount | 0 |
LensModel | OLYMPUS M.60mm F2.8 Macro |
LensProfileEnable | 0 |
LensProfileSetup | LensDefaults |
LensProperties | 0x4100 |
LensSerialNumber | ABQA07291 |
LensType | Olympus M.Zuiko Digital ED 60mm F2.8 Macro |
LightSource | Unknown |
LightValue | 11.3 |
LuminanceAdjustmentAqua | 0 |
LuminanceAdjustmentBlue | 0 |
LuminanceAdjustmentGreen | 0 |
LuminanceAdjustmentMagenta | 0 |
LuminanceAdjustmentOrange | 0 |
LuminanceAdjustmentPurple | 0 |
LuminanceAdjustmentRed | 0 |
LuminanceAdjustmentYellow | 0 |
LuminanceSmoothing | 0 |
MacroLED | Off |
MacroMode | Off |
Make | OLYMPUS CORPORATION |
ManometerPressure | 0 kPa |
ManometerReading | 0 m, 0 ft |
ManualFlash | Off |
ManualFlashStrength | n/a (x4) |
MaxAperture | 2.9 |
MaxApertureAtMaxFocal | 2.8 |
MaxApertureAtMinFocal | 2.8 |
MaxApertureValue | 2.8 |
MaxFaces | 8 8 0 |
MaxFocalLength | 60 |
Megapixels | 3.0 |
MeteringMode (2) | Multi-segment |
MeteringMode | ESP |
MinFocalLength | 60 |
Model | E-M10MarkII |
ModifiedSaturation | Off |
ModifyDate (1) | 2024:01:30 15:40:54+01:00 |
ModifyDate | 2024:01:30 15:40:54 |
MultipleExposureMode | Off; 1 |
NoiseFilter | Standard |
NoiseReduction | (none) |
NoiseReduction2 | (none) |
Orientation | Horizontal (normal) |
PaintCorrectionActive | true |
PaintCorrectionAmount | 1.000000 |
PaintCorrectionBrightness | 0.000000 |
PaintCorrectionClarity | 0.000000 |
PaintCorrectionClarity2012 | 0.095240 |
PaintCorrectionContrast | 0.000000 |
PaintCorrectionContrast2012 | 0.000000 |
PaintCorrectionDefringe | 0.000000 |
PaintCorrectionExposure | 0.000000 |
PaintCorrectionExposure2012 | 0.000000 |
PaintCorrectionHighlights2012 | 0.000000 |
PaintCorrectionHue | 233.000000 |
PaintCorrectionLocalBlacks2012 | 0.000000 |
PaintCorrectionLocalDehaze | 0.000000 |
PaintCorrectionLocalWhites2012 | 0.000000 |
PaintCorrectionLuminanceNoise | 0.000000 |
PaintCorrectionMaskCenterWeight | 0.317924 |
PaintCorrectionMaskFlow | 0.919000 |
PaintCorrectionMaskRadius (1) | 0.024953 |
PaintCorrectionMaskRadius | 0.013701 |
PaintCorrectionMaskValue | 0.570000 |
PaintCorrectionMaskWhat | Mask/Paint |
PaintCorrectionMoire | 0.000000 |
PaintCorrectionSaturation (1) | 0.142860 |
PaintCorrectionSaturation | 0.000000 |
PaintCorrectionShadows2012 | 0.000000 |
PaintCorrectionSharpness | 0.166670 |
PaintCorrectionTemperature | 0.000000 |
PaintCorrectionTint | 0.000000 |
PaintCorrectionWhat | Correction |
PanoramaMode | Off |
ParametricDarks | 0 |
ParametricHighlights | 0 |
ParametricHighlightSplit | 75 |
ParametricLights | 0 |
ParametricMidtoneSplit | 50 |
ParametricShadows | 0 |
ParametricShadowSplit | 25 |
PerspectiveAspect | 0 |
PerspectiveHorizontal | 0 |
PerspectiveRotate | 0.0 |
PerspectiveScale | 100 |
PerspectiveUpright | 0 |
PerspectiveVertical | 0 |
PerspectiveX | 0.00 |
PerspectiveY | 0.00 |
PictureMode | Natural; 2 |
PictureModeBWFilter | n/a |
PictureModeContrast | 0 (min -2, max 2) |
PictureModeEffect | Standard |
PictureModeSaturation | 0 (min -2, max 2) |
PictureModeSharpness | 0 (min -2, max 2) |
PictureModeTone | n/a |
PostCropVignetteAmount | 0 |
PrintIMVersion | 0300 |
ProcessVersion | 6.7 |
ProfileDescription | Adobe RGB (1998) |
Rating | 1 |
RatingPercent | 1 |
RawDevColorSpace | sRGB |
RawDevContrastValue | 0 0 0 |
RawDevEditStatus | Original |
RawDevEngine | High Speed |
RawDevExposureBiasValue | 0 |
RawDevGrayPoint | 0 0 0 |
RawDevMemoryColorEmphasis | 0 |
RawDevNoiseReduction | (none) |
RawDevSaturationEmphasis | 0 0 0 |
RawDevSettings | (none) |
RawDevSharpnessValue | 0 0 0 |
RawDevVersion | 0100 |
RawDevWBFineAdjustment | 0 |
RawDevWhiteBalanceValue | 0 |
RawFileName | P8190350.ORF |
RedBalance | 1.710938 |
RedHue | 0 |
RedSaturation | 0 |
Saturation (2) | 0 |
Saturation | Normal |
SaturationAdjustmentAqua | 0 |
SaturationAdjustmentBlue | 0 |
SaturationAdjustmentGreen | 0 |
SaturationAdjustmentMagenta | 0 |
SaturationAdjustmentOrange | 0 |
SaturationAdjustmentPurple | 0 |
SaturationAdjustmentRed | 0 |
SaturationAdjustmentYellow | 0 |
ScaleFactor35efl | 2.0 |
SceneCaptureType | Standard |
SceneDetect | 0 |
SceneMode | Standard |
SensitivityType (1) | 1 |
SensitivityType | Standard Output Sensitivity |
SensorCalibration | 4094 256 |
SensorTemperature | 31 31 0 C |
SerialNumber | BHLA27819 |
ShadingCompensation | Off |
ShadingCompensation2 | Off |
Shadows2012 | 0 |
ShadowTint | 0 |
SharpenDetail | 25 |
SharpenEdgeMasking | 0 |
SharpenRadius | +1.0 |
Sharpness (2) | 25 |
Sharpness | Normal |
SharpnessSetting | 0 (min -5, max 5) |
ShutterSpeed | 1/400 |
ShutterSpeedValue | 1/400 |
Software | DxO PhotoLab 7.3 |
SpecialMode | Fast, Sequence: 1, Panorama: (none) |
SplitToningBalance | 0 |
SplitToningHighlightHue | 0 |
SplitToningHighlightSaturation | 0 |
SplitToningShadowHue | 0 |
SplitToningShadowSaturation | 0 |
StackedImage | No |
Subject | edderkopp |
SubjectDistance | 0.28 m |
Tint | +1 |
ToneCurve | 0, 0, 32, 22, 64, 56, 128, 128, 192, 196, 255, 255 |
ToneCurveBlue | 0, 0, 255, 255 |
ToneCurveGreen | 0, 0, 255, 255 |
ToneCurveName | Medium Contrast |
ToneCurveName2012 | Linear |
ToneCurvePV2012 | 0, 0, 255, 255 |
ToneCurvePV2012Blue | 0, 0, 255, 255 |
ToneCurvePV2012Green | 0, 0, 255, 255 |
ToneCurvePV2012Red | 0, 0, 255, 255 |
ToneCurveRed | 0, 0, 255, 255 |
ToneLevel | Highlights; 0; -7; 7; Shadows; 0; -7; 7; 0; 0; 0; 0; 0; 0; 0; 0; 0; 0; 0; 0; 0; 0; 0; 0; 0; 0; 0; 0 |
ToneMapStrength | 0 |
UserComment | |
ValidBits | 12 0 |
Version | 9.12 |
Vibrance | 0 |
VignetteAmount | 0 |
WB_RBLevels | 438 520 256 256 |
WB_RBLevels3000K | 300 858 256 256 |
WB_RBLevels3300K | 360 678 256 256 |
WB_RBLevels3600K | 386 626 256 256 |
WB_RBLevels3900K | 408 584 256 256 |
WB_RBLevels4000K | 498 684 256 256 |
WB_RBLevels4300K | 432 548 256 256 |
WB_RBLevels4500K | 488 538 256 256 |
WB_RBLevels4800K | 466 502 256 256 |
WB_RBLevels5300K | 492 470 256 256 |
WB_RBLevels6000K | 532 428 256 256 |
WB_RBLevels6600K | 562 434 256 256 |
WB_RBLevels7500K | 580 372 256 256 |
WB_RBLevelsCWB1 | 384 384 256 256 |
WB_RBLevelsCWB2 | 384 384 256 256 |
WB_RBLevelsCWB3 | 384 384 256 256 |
WB_RBLevelsCWB4 | 384 384 256 256 |
WhiteBalance (2) | As Shot |
WhiteBalance | Auto |
WhiteBalance2 | Auto |
WhiteBalanceBracket | 0 0 |
WhiteBalanceTemperature | Auto |
Whites2012 | -14 |
ZoomStepCount | 0 |