Felt | Verdi |
AbsoluteAltitude | +111.57 |
AlreadyApplied | True |
Aperture | 2.8 |
ApertureValue | 2.8 |
AutoLateralCA | 0 |
BitsPerSample | 8 |
Blacks2012 | 0 |
BlueHue | 0 |
BlueSaturation | 0 |
CameraProfile | Embedded |
CamReverse | 0 |
CircleOfConfusion | 0.011 mm |
Clarity2012 | +56 |
ColorComponents | 3 |
ColorGradeBlending | 50 |
ColorGradeGlobalHue | 0 |
ColorGradeGlobalLum | 0 |
ColorGradeGlobalSat | 0 |
ColorGradeHighlightLum | 0 |
ColorGradeMidtoneHue | 0 |
ColorGradeMidtoneLum | 0 |
ColorGradeMidtoneSat | 0 |
ColorGradeShadowLum | 0 |
ColorNoiseReduction | 0 |
ColorSpace | sRGB |
ColorTransform | YCbCr |
Contrast | Normal |
Contrast2012 | -3 |
ConvertToGrayscale | True |
CreateDate | 2021:11:12 09:19:41 |
CreatorTool | Adobe Lightroom 5.0 (Windows) |
CropAngle | -1.29 |
CropBottom | 0.961466 |
CropConstrainToWarp | 0 |
CropLeft | 0.013185 |
CropRight | 0.986815 |
CropTop | 0.038534 |
DateCreated (1) | 2021:11:12 |
DateCreated | 2021:11:12 09:19:41 |
DateTimeOriginal | 2021:11:12 09:19:41 |
Dehaze | -15 |
DigitalZoomRatio | 1 |
Exposure2012 | +0.80 |
ExposureCompensation | +0.3 |
ExposureMode | Auto |
ExposureProgram | Program AE |
ExposureTime | 1/60 |
Flash | No Flash |
FlightPitchDegree | -0.20 |
FlightRollDegree | -0.20 |
FlightYawDegree | +85.10 |
FNumber | 2.8 |
FocalLength | 8.4 mm |
FocalLength35efl | 8.4 mm (35 mm equivalent: 22.0 mm) |
FocalLengthIn35mmFormat | 22 mm |
Format | image/jpeg |
FOV | 78.6 deg |
GainControl | None |
GimbalPitchDegree | -89.90 |
GimbalReverse | 0 |
GimbalRollDegree | +0.00 |
GimbalYawDegree | +86.20 |
GPSAltitude | 111.5 m |
GPSLatitude (2) | 59 deg 47' 30.37" |
GPSLatitude | 59 deg 47' 30.37" N |
GPSLatitudeRef | North |
GPSLongitude (2) | 10 deg 53' 14.89" |
GPSLongitude | 10 deg 53' 14.89" E |
GPSLongitudeRef | East |
GPSPosition | 59 deg 47' 30.37" N, 10 deg 53' 14.89" E |
GPSVersionID | 2.2.0.0 |
GrainAmount | 0 |
GrayMixerAqua | 0 |
GrayMixerBlue | 0 |
GrayMixerGreen | 0 |
GrayMixerMagenta | 0 |
GrayMixerOrange | 0 |
GrayMixerPurple | 0 |
GrayMixerRed | 0 |
GrayMixerYellow | 0 |
GreenHue | 0 |
GreenSaturation | 0 |
HasCrop | True |
HasSettings | True |
Highlights2012 | 0 |
HyperfocalDistance | 2.19 m |
ImageHeight | 2953 |
ImageSize | 5255x2953 |
ImageWidth | 5255 |
IncrementalTemperature | 0 |
IncrementalTint | 0 |
ISO | 100 |
LateralChromaticAberrationCorrectionAlreadyApplied | True |
Lens | 22.4 mm f/2.8 |
LensInfo | 22.4mm f/2.8 |
LensManualDistortionAmount | 0 |
LensModel | 22.4 mm f/2.8 |
LensProfileEnable | 0 |
LightSource | Daylight |
LightValue | 8.9 |
LuminanceSmoothing | 0 |
Make | DJI |
MaxApertureValue | 2.8 |
Megapixels | 15.5 |
MeteringMode | Average |
Model | FC3411 |
ModifyDate (1) | 2021:11:15 13:56:45+01:00 |
ModifyDate | 2021:11:15 13:56:45 |
OverrideLookVignette | False |
ParametricDarks | 0 |
ParametricHighlights | 0 |
ParametricHighlightSplit | 75 |
ParametricLights | 0 |
ParametricMidtoneSplit | 50 |
ParametricShadows | 0 |
ParametricShadowSplit | 25 |
PerspectiveAspect | 0 |
PerspectiveHorizontal | 0 |
PerspectiveRotate | 0.0 |
PerspectiveScale | 100 |
PerspectiveUpright | 0 |
PerspectiveVertical | 0 |
PerspectiveX | 0.00 |
PerspectiveY | 0.00 |
PostCropVignetteAmount | -26 |
PostCropVignetteFeather | 50 |
PostCropVignetteHighlightContrast | 0 |
PostCropVignetteMidpoint | 50 |
PostCropVignetteRoundness | 0 |
PostCropVignetteStyle | 1 |
ProcessVersion | 11.0 |
ProfileDescription | sRGB IEC61966-2.1 |
RawFileName | |
RedHue | 0 |
RedSaturation | 0 |
RelativeAltitude | +23.00 |
Saturation | Normal |
ScaleFactor35efl | 2.6 |
SceneCaptureType | Standard |
SceneType | Directly photographed |
SelfData | |
SerialNumber | 42ULJ1813A02N0 |
Shadows2012 | 0 |
ShadowTint | 0 |
Sharpness (1) | 0 |
Sharpness | Normal |
ShutterSpeed | 1/60 |
ShutterSpeedValue | 1/60 |
Software | Adobe Lightroom 5.0 (Windows) |
SplitToningBalance | 0 |
SplitToningHighlightHue | 0 |
SplitToningHighlightSaturation | 0 |
SplitToningShadowHue | 0 |
SplitToningShadowSaturation | 0 |
Texture | +29 |
ToneCurveName2012 | Linear |
ToneCurvePV2012 | 0, 0, 255, 255 |
ToneCurvePV2012Blue | 0, 0, 255, 255 |
ToneCurvePV2012Green | 0, 0, 255, 255 |
ToneCurvePV2012Red | 0, 0, 255, 255 |
Version | 14.0 |
VignetteAmount | 0 |
WhiteBalance (1) | As Shot |
WhiteBalance | Auto |
Whites2012 | 0 |