Felt | Verdi |
AdobeWhiteLevel | 25022 |
AlreadyApplied | True |
Aperture | 5.6 |
ApertureValue | 5.6 |
ApproximateFocusDistance | 140.58 |
Artist | Eirik Ottesen |
AutoLateralCA | 0 |
BitsPerSample | 8 |
Blacks2012 | -22 |
BlueHue | 0 |
BlueSaturation | 0 |
By-line | Eirik Ottesen |
CameraProfile | Adobe Standard |
CircleOfConfusion | 0.013 mm |
Clarity2012 | +16 |
ColorComponents | 3 |
ColorGradeBlending | 50 |
ColorGradeGlobalHue | 0 |
ColorGradeGlobalLum | 0 |
ColorGradeGlobalSat | 0 |
ColorGradeHighlightLum | 0 |
ColorGradeMidtoneHue | 0 |
ColorGradeMidtoneLum | 0 |
ColorGradeMidtoneSat | 0 |
ColorGradeShadowLum | 0 |
ColorNoiseReduction | 0 |
ColorSpace | sRGB |
ColorTemperature | 6350 |
ColorTransform | YCbCr |
Contrast2012 | +7 |
CreateDate (1) | 2021:06:26 23:07:56.58 |
CreateDate | 2021:06:26 23:07:56 |
Creator | Eirik Ottesen |
CreatorTool | Adobe Lightroom 4.3 (Macintosh) |
CropAngle | 5.380962 |
CropBottom | 0.846888 |
CropConstrainToWarp | 0 |
CropLeft | 0.305529 |
CropRight | 0.713467 |
CropTop | 0.338862 |
CustomRendered | Normal |
DateCreated (1) | 2021:06:26 |
DateCreated | 2021:06:26 23:07:56.58 |
DateTimeOriginal | 2021:06:26 23:07:56 |
DefringeGreenAmount | 0 |
DefringeGreenHueHi | 60 |
DefringeGreenHueLo | 40 |
DefringePurpleAmount | 0 |
DefringePurpleHueHi | 70 |
DefringePurpleHueLo | 30 |
Dehaze | 0 |
DOF | 18.33 m (132.01 - 150.34 m) |
Exposure2012 | +0.43 |
ExposureCompensation | 0 |
ExposureMode | Manual |
ExposureProgram | Manual |
ExposureTime | 1/320 |
Firmware | 1.1.1 |
Flash | Off, Did not fire |
FlashCompensation | 0 |
FNumber | 5.6 |
FocalLength | 400.0 mm |
FocalLength35efl | 400.0 mm (35 mm equivalent: 908.2 mm) |
Format | image/jpeg |
FOV | 2.3 deg |
Good | True |
GrainAmount | 0 |
GreenHue | 0 |
GreenSaturation | 0 |
HasCrop | True |
HasExtendedXMP | 169F32A22DF63E534FB042845F24E4CD |
HasSettings | True |
Highlights2012 | -90 |
HueAdjustmentAqua | 0 |
HueAdjustmentBlue | 0 |
HueAdjustmentGreen | 0 |
HueAdjustmentMagenta | 0 |
HueAdjustmentOrange | 0 |
HueAdjustmentPurple | 0 |
HueAdjustmentRed | 0 |
HueAdjustmentYellow | 0 |
HyperfocalDistance | 2159.14 m |
ImageHeight | 1866 |
ImageNumber | 0 |
ImageSize | 2733x1866 |
ImageWidth | 2733 |
ISO | 40000 |
Lens | EF400mm f/5.6L USM |
LensID (1) | 172 |
LensID | Canon EF 400mm f/5.6L USM |
LensInfo | 400mm f/5.6 |
LensManualDistortionAmount | 0 |
LensModel | EF400mm f/5.6L USM |
LensProfileEnable | 0 |
LightValue | 4.6 |
LookAmount | 0.550000 |
LookCluster | Adobe |
LookGroup | Modern |
LookName | Modern 07 |
LookParametersConvertToGrayscale | False |
LookParametersLookTable | E1095149FDB39D7A057BAB208837E2E1 |
LookParametersProcessVersion | 11.0 |
LookParametersRGBTable | D0A626800FCD9BB00251BD0BB83F5AB8 |
LookParametersRGBTableAmount | 0.75 |
LookParametersVersion | 13.3 |
LookSupportsMonochrome | false |
LuminanceAdjustmentAqua | 0 |
LuminanceAdjustmentBlue | 0 |
LuminanceAdjustmentGreen | 0 |
LuminanceAdjustmentMagenta | 0 |
LuminanceAdjustmentOrange | 0 |
LuminanceAdjustmentPurple | 0 |
LuminanceAdjustmentRed | 0 |
LuminanceAdjustmentYellow | 0 |
LuminanceSmoothing | 0 |
Make | Canon |
MaxApertureValue | 5.7 |
Megapixels | 5.1 |
MeteringMode | Multi-segment |
Model | Canon EOS 6D Mark II |
ModifyDate (1) | 2021:06:28 04:44:14+02:00 |
ModifyDate | 2021:06:28 04:44:14 |
OverrideLookVignette | False |
PaintCorrectionActive | true |
PaintCorrectionAmount | 1.000000 |
PaintCorrectionBrightness | 0.000000 |
PaintCorrectionClarity2012 | 0.000000 |
PaintCorrectionContrast2012 | 0.000000 |
PaintCorrectionCorrectionRangeMaskColorAmount | 0.500000 |
PaintCorrectionCorrectionRangeMaskDepthFeather | 0.500000 |
PaintCorrectionCorrectionRangeMaskDepthMax | 1.000000 |
PaintCorrectionCorrectionRangeMaskDepthMin | 0.000000 |
PaintCorrectionCorrectionRangeMaskLumFeather | 0.500000 |
PaintCorrectionCorrectionRangeMaskLumMax | 1.000000 |
PaintCorrectionCorrectionRangeMaskLumMin | 0.000000 |
PaintCorrectionCorrectionRangeMaskType | 0 |
PaintCorrectionCorrectionRangeMaskVersion | +2 |
PaintCorrectionDefringe | 0.000000 |
PaintCorrectionExposure2012 (1) | -0.240000 |
PaintCorrectionExposure2012 (2) | 0.000000 |
PaintCorrectionExposure2012 | 0.060000 |
PaintCorrectionHighlights2012 (1) | 0.000000 |
PaintCorrectionHighlights2012 | -0.533053 |
PaintCorrectionHue | 0.000000 |
PaintCorrectionLocalBlacks2012 | 0.000000 |
PaintCorrectionLocalDehaze (1) | 0.000000 |
PaintCorrectionLocalDehaze (2) | 0.202937 |
PaintCorrectionLocalDehaze | 0.216572 |
PaintCorrectionLocalHue | 0.000000 |
PaintCorrectionLocalTexture (2) | 0.000000 |
PaintCorrectionLocalTexture | -0.587627 |
PaintCorrectionLocalWhites2012 | 0.000000 |
PaintCorrectionLuminanceNoise (1) | 1.000000 |
PaintCorrectionLuminanceNoise | 0.000000 |
PaintCorrectionMaskCenterWeight | 0.000000 |
PaintCorrectionMaskFlow | 0.500000 |
PaintCorrectionMaskRadius (1) | 0.088068 |
PaintCorrectionMaskRadius (12) | 0.055009 |
PaintCorrectionMaskRadius (13) | 0.020326 |
PaintCorrectionMaskRadius (14) | 0.026024 |
PaintCorrectionMaskRadius (2) | 0.034922 |
PaintCorrectionMaskRadius (20) | 0.012513 |
PaintCorrectionMaskRadius (22) | 0.008168 |
PaintCorrectionMaskRadius (23) | 0.010123 |
PaintCorrectionMaskRadius (24) | 0.009398 |
PaintCorrectionMaskRadius (26) | 0.007836 |
PaintCorrectionMaskRadius (28) | 0.008354 |
PaintCorrectionMaskRadius (3) | 0.019241 |
PaintCorrectionMaskRadius (32) | 0.006751 |
PaintCorrectionMaskRadius (33) | 0.008119 |
PaintCorrectionMaskRadius (4) | 0.015878 |
PaintCorrectionMaskRadius (6) | 0.016729 |
PaintCorrectionMaskRadius (7) | 0.027921 |
PaintCorrectionMaskRadius | 0.005303 |
PaintCorrectionMaskValue (21) | 1.000000 |
PaintCorrectionMaskValue | 0.000000 |
PaintCorrectionMaskWhat | Mask/Paint |
PaintCorrectionMoire | 0.000000 |
PaintCorrectionSaturation | 0.000000 |
PaintCorrectionShadows2012 (1) | 0.000000 |
PaintCorrectionShadows2012 | 0.105356 |
PaintCorrectionSharpness (1) | 0.000000 |
PaintCorrectionSharpness | 0.116098 |
PaintCorrectionTemperature | 0.000000 |
PaintCorrectionTint | 0.000000 |
PaintCorrectionWhat | Correction |
ParametricDarks | 0 |
ParametricHighlights | 0 |
ParametricHighlightSplit | 75 |
ParametricLights | 0 |
ParametricMidtoneSplit | 50 |
ParametricShadows | 0 |
ParametricShadowSplit | 25 |
PerspectiveAspect | 0 |
PerspectiveHorizontal | 0 |
PerspectiveRotate | 0.0 |
PerspectiveScale | 100 |
PerspectiveUpright | 0 |
PerspectiveVertical | 0 |
PerspectiveX | 0.00 |
PerspectiveY | 0.00 |
PostCropVignetteAmount | 0 |
ProcessVersion | 11.0 |
ProfileDescription | sRGB IEC61966-2.1 |
Rating | 3 |
RawFileName | |
RecommendedExposureIndex | 40000 |
RedHue | 0 |
RedSaturation | 0 |
Saturation | +4 |
SaturationAdjustmentAqua | 0 |
SaturationAdjustmentBlue | 0 |
SaturationAdjustmentGreen | 0 |
SaturationAdjustmentMagenta | 0 |
SaturationAdjustmentOrange | 0 |
SaturationAdjustmentPurple | 0 |
SaturationAdjustmentRed | 0 |
SaturationAdjustmentYellow | 0 |
ScaleFactor35efl | 2.3 |
SceneCaptureType | Standard |
SensitivityType | Recommended Exposure Index |
SerialNumber | 153052003057 |
Shadows2012 | +51 |
ShadowTint | 0 |
Sharpness | 0 |
ShutterSpeed | 1/320 |
ShutterSpeedValue | 1/320 |
Software | Adobe Lightroom 4.3 (Macintosh) |
SplitToningBalance | 0 |
SplitToningHighlightHue | 0 |
SplitToningHighlightSaturation | 0 |
SplitToningShadowHue | 0 |
SplitToningShadowSaturation | 0 |
SubjectDistance | 140.58 m |
Texture | 0 |
Tint | +49 |
ToneCurveName2012 | Linear |
ToneCurvePV2012 | 0, 0, 255, 255 |
ToneCurvePV2012Blue | 0, 0, 255, 255 |
ToneCurvePV2012Green | 0, 0, 255, 255 |
ToneCurvePV2012Red | 0, 0, 255, 255 |
Version | 13.3 |
Vibrance | +20 |
VignetteAmount | 0 |
WhiteBalance (1) | As Shot |
WhiteBalance | Auto |
WhiteLevel | 28672 |
Whites2012 | +36 |