Felt | Verdi |
AlreadyApplied | True |
Aperture | 1.6 |
ApertureValue | 1.6 |
AutoLateralCA | 0 |
BitsPerSample | 8 |
Blacks2012 | -19 |
BlueHue | 0 |
BlueSaturation | 0 |
BrightnessValue | 0 |
CameraProfile | Embedded |
CircleOfConfusion | 0.006 mm |
Clarity2012 | 0 |
ColorComponents | 3 |
ColorMode | RGB |
ColorNoiseReduction | 0 |
ColorSpace | Uncalibrated |
ColorTransform | YCbCr |
Contrast | Normal |
Contrast2012 | 0 |
ConvertToGrayscale | False |
CreateDate | 2020:03:27 07:42:26 |
CreatorTool | VOG-L29 10.0.0.186(C431E19R2P5) |
CropAngle | 0 |
CropBottom | 0.900738 |
CropConstrainToWarp | 1 |
CropLeft | 0.029311 |
CropRight | 0.922278 |
CropTop | 0.007771 |
CustomRendered | Custom |
DateCreated (1) | 2020:03:27 |
DateCreated | 2020:03:27 07:42:27.231153408 |
DateTimeOriginal | 2020:03:27 07:42:26 |
DefringeGreenAmount | 0 |
DefringeGreenHueHi | 60 |
DefringeGreenHueLo | 40 |
DefringePurpleAmount | 0 |
DefringePurpleHueHi | 70 |
DefringePurpleHueLo | 30 |
Dehaze | 0 |
DigitalZoomRatio | 1 |
ExifImageHeight | 2444 |
ExifImageWidth | 3258 |
Exposure2012 | 0.00 |
ExposureCompensation | 0 |
ExposureMode | Auto |
ExposureProgram | Program AE |
ExposureTime | 1/240 |
Flash | No Flash |
FNumber | 1.6 |
FocalLength | 5.6 mm |
FocalLength35efl | 5.6 mm (35 mm equivalent: 27.0 mm) |
FocalLengthIn35mmFormat | 27 mm |
Format | image/jpeg |
FOV | 67.4 deg |
GainControl | None |
GradientBasedCorrActive | true |
GradientBasedCorrAmount | 1.000000 |
GradientBasedCorrBrightness | 0.000000 |
GradientBasedCorrClarity | 0.000000 |
GradientBasedCorrClarity2012 | 0.000000 |
GradientBasedCorrContrast | 0.000000 |
GradientBasedCorrContrast2012 | 0.000000 |
GradientBasedCorrDefringe | 0.000000 |
GradientBasedCorrExposure | 0.000000 |
GradientBasedCorrExposure2012 | 0.000000 |
GradientBasedCorrHighlights2012 | -1.000000 |
GradientBasedCorrHue | 255.000000 |
GradientBasedCorrLocalBlacks2012 | 0.000000 |
GradientBasedCorrLocalDehaze | 0.000000 |
GradientBasedCorrLocalWhites2012 | 0.000000 |
GradientBasedCorrLuminanceNoise | 0.000000 |
GradientBasedCorrMaskFullX | 0.462844 |
GradientBasedCorrMaskFullY | 0.059481 |
GradientBasedCorrMaskValue | 1.000000 |
GradientBasedCorrMaskWhat | Mask/Gradient |
GradientBasedCorrMaskZeroX | 0.466774 |
GradientBasedCorrMaskZeroY | 0.436524 |
GradientBasedCorrMoire | 0.000000 |
GradientBasedCorrSaturation | 0.000000 |
GradientBasedCorrShadows2012 | 0.261900 |
GradientBasedCorrSharpness | 0.000000 |
GradientBasedCorrTemperature | 0.000000 |
GradientBasedCorrTint | 0.000000 |
GradientBasedCorrWhat | Correction |
GrainAmount | 0 |
GreenHue | 0 |
GreenSaturation | 0 |
HasCrop | True |
HasExtendedXMP | B7CD07DEA06F44B922B24AE2C55B4475 |
HasSettings | True |
Highlights2012 | 0 |
HueAdjustmentAqua | 0 |
HueAdjustmentBlue | 0 |
HueAdjustmentGreen | 0 |
HueAdjustmentMagenta | 0 |
HueAdjustmentOrange | 0 |
HueAdjustmentPurple | 0 |
HueAdjustmentRed | 0 |
HueAdjustmentYellow | 0 |
HyperfocalDistance | 3.12 m |
ICCProfileName | ProPhoto RGB |
ImageHeight | 2444 |
ImageSize | 3258x2444 |
ImageWidth | 3258 |
IncrementalTemperature | 0 |
IncrementalTint | 0 |
ISO | 50 |
Label | |
LensManualDistortionAmount | 0 |
LensProfileEnable | 0 |
LensProfileSetup | LensDefaults |
LightSource | Daylight |
LightValue | 10.3 |
LuminanceAdjustmentAqua | 0 |
LuminanceAdjustmentBlue | 0 |
LuminanceAdjustmentGreen | 0 |
LuminanceAdjustmentMagenta | 0 |
LuminanceAdjustmentOrange | 0 |
LuminanceAdjustmentPurple | 0 |
LuminanceAdjustmentRed | 0 |
LuminanceAdjustmentYellow | 0 |
LuminanceSmoothing | 0 |
Make | HUAWEI |
MaxApertureValue | 1.6 |
Megapixels | 8.0 |
MeteringMode | Multi-segment |
Model | VOG-L29 |
ModifyDate (1) | 2020:03:28 12:28:32+01:00 |
ModifyDate | 2020:03:28 12:28:32 |
Orientation | Horizontal (normal) |
PaintCorrectionActive | true |
PaintCorrectionAmount | 1.000000 |
PaintCorrectionBrightness | 0.000000 |
PaintCorrectionClarity | 0.000000 |
PaintCorrectionClarity2012 | 0.000000 |
PaintCorrectionContrast | 0.000000 |
PaintCorrectionContrast2012 (1) | 0.309520 |
PaintCorrectionContrast2012 (3) | 1.000000 |
PaintCorrectionContrast2012 | 0.000000 |
PaintCorrectionDefringe | 0.000000 |
PaintCorrectionExposure | 0.000000 |
PaintCorrectionExposure2012 | 0.000000 |
PaintCorrectionHighlights2012 (2) | 1.000000 |
PaintCorrectionHighlights2012 (3) | 0.357140 |
PaintCorrectionHighlights2012 | 0.000000 |
PaintCorrectionHue | 255.000000 |
PaintCorrectionLocalBlacks2012 (2) | -0.547620 |
PaintCorrectionLocalBlacks2012 | 0.000000 |
PaintCorrectionLocalDehaze | 0.000000 |
PaintCorrectionLocalWhites2012 (2) | 0.214290 |
PaintCorrectionLocalWhites2012 | 0.000000 |
PaintCorrectionLuminanceNoise | 0.000000 |
PaintCorrectionMaskCenterWeight | 0.154338 |
PaintCorrectionMaskFlow | 0.555000 |
PaintCorrectionMaskRadius (1) | 0.063029 |
PaintCorrectionMaskRadius (10) | 0.012914 |
PaintCorrectionMaskRadius (11) | 0.013070 |
PaintCorrectionMaskRadius (12) | 0.013560 |
PaintCorrectionMaskRadius (13) | 0.013584 |
PaintCorrectionMaskRadius (14) | 0.013616 |
PaintCorrectionMaskRadius (15) | 0.013659 |
PaintCorrectionMaskRadius (16) | 0.013536 |
PaintCorrectionMaskRadius (17) | 0.012924 |
PaintCorrectionMaskRadius (18) | 0.013077 |
PaintCorrectionMaskRadius (19) | 0.013215 |
PaintCorrectionMaskRadius (2) | 0.044916 |
PaintCorrectionMaskRadius (20) | 0.017371 |
PaintCorrectionMaskRadius (21) | 0.017198 |
PaintCorrectionMaskRadius (22) | 0.019916 |
PaintCorrectionMaskRadius (23) | 0.016205 |
PaintCorrectionMaskRadius (24) | 0.016212 |
PaintCorrectionMaskRadius (25) | 0.015952 |
PaintCorrectionMaskRadius (26) | 0.016454 |
PaintCorrectionMaskRadius (27) | 0.016545 |
PaintCorrectionMaskRadius (28) | 0.012640 |
PaintCorrectionMaskRadius (29) | 0.012632 |
PaintCorrectionMaskRadius (3) | 0.039088 |
PaintCorrectionMaskRadius (30) | 0.012635 |
PaintCorrectionMaskRadius (31) | 0.020237 |
PaintCorrectionMaskRadius (32) | 0.020309 |
PaintCorrectionMaskRadius (33) | 0.020301 |
PaintCorrectionMaskRadius (34) | 0.016823 |
PaintCorrectionMaskRadius (35) | 0.017818 |
PaintCorrectionMaskRadius (36) | 0.017741 |
PaintCorrectionMaskRadius (37) | 0.017667 |
PaintCorrectionMaskRadius (38) | 0.021841 |
PaintCorrectionMaskRadius (39) | 0.024861 |
PaintCorrectionMaskRadius (4) | 0.017302 |
PaintCorrectionMaskRadius (5) | 0.013359 |
PaintCorrectionMaskRadius (6) | 0.013551 |
PaintCorrectionMaskRadius (7) | 0.013211 |
PaintCorrectionMaskRadius (8) | 0.013217 |
PaintCorrectionMaskRadius (9) | 0.013067 |
PaintCorrectionMaskRadius | 0.024705 |
PaintCorrectionMaskValue | 0.860000 |
PaintCorrectionMaskWhat | Mask/Paint |
PaintCorrectionMoire | 0.000000 |
PaintCorrectionSaturation | 0.000000 |
PaintCorrectionShadows2012 (1) | 1.000000 |
PaintCorrectionShadows2012 (3) | -0.166670 |
PaintCorrectionShadows2012 | 0.000000 |
PaintCorrectionSharpness (3) | 0.000000 |
PaintCorrectionSharpness | 0.619050 |
PaintCorrectionTemperature | 0.000000 |
PaintCorrectionTint | 0.000000 |
PaintCorrectionWhat | Correction |
ParametricDarks | 0 |
ParametricHighlights | 0 |
ParametricHighlightSplit | 75 |
ParametricLights | 0 |
ParametricMidtoneSplit | 50 |
ParametricShadows | 0 |
ParametricShadowSplit | 25 |
PerspectiveAspect | 0 |
PerspectiveHorizontal | +2 |
PerspectiveRotate | +0.5 |
PerspectiveScale | 100 |
PerspectiveUpright | 0 |
PerspectiveVertical | -19 |
PerspectiveX | 0.00 |
PerspectiveY | 0.00 |
PostCropVignetteAmount | -17 |
PostCropVignetteFeather | 50 |
PostCropVignetteHighlightContrast | 100 |
PostCropVignetteMidpoint | 54 |
PostCropVignetteRoundness | +100 |
PostCropVignetteStyle | 1 |
ProcessVersion | 10.0 |
ProfileDescription | ProPhoto RGB |
Rating | 0 |
RawFileName | 1b.jpg |
RedHue | 0 |
RedSaturation | 0 |
Saturation (1) | 0 |
Saturation | Normal |
SaturationAdjustmentAqua | 0 |
SaturationAdjustmentBlue | 0 |
SaturationAdjustmentGreen | 0 |
SaturationAdjustmentMagenta | 0 |
SaturationAdjustmentOrange | 0 |
SaturationAdjustmentPurple | 0 |
SaturationAdjustmentRed | 0 |
SaturationAdjustmentYellow | 0 |
ScaleFactor35efl | 4.9 |
SceneCaptureType | Standard |
SceneType | Directly photographed |
SensingMethod | One-chip color area |
Shadows2012 | 0 |
ShadowTint | 0 |
SharpenDetail | 40 |
SharpenEdgeMasking | 0 |
SharpenRadius | +1.4 |
Sharpness (1) | 13 |
Sharpness | Normal |
ShutterSpeed | 1/240 |
ShutterSpeedValue | 1/240 |
Software | Adobe Photoshop CC 2017 (Windows) |
SplitToningBalance | 0 |
SplitToningHighlightHue | 0 |
SplitToningHighlightSaturation | 0 |
SplitToningShadowHue | 0 |
SplitToningShadowSaturation | 0 |
SubjectDistanceRange | Unknown |
ToneCurve | 0, 0, 255, 255 |
ToneCurveBlue | 0, 0, 255, 255 |
ToneCurveGreen | 0, 0, 255, 255 |
ToneCurveName | Linear |
ToneCurveName2012 | Linear |
ToneCurvePV2012 | 0, 0, 255, 255 |
ToneCurvePV2012Blue | 0, 0, 255, 255 |
ToneCurvePV2012Green | 0, 0, 255, 255 |
ToneCurvePV2012Red | 0, 0, 255, 255 |
ToneCurveRed | 0, 0, 255, 255 |
URL_List | |
Version | 10.1 |
Vibrance | 0 |
VignetteAmount | 0 |
WhiteBalance (1) | As Shot |
WhiteBalance | Auto |
Whites2012 | +12 |