Felt | Verdi |
AlreadyApplied | True |
Aperture | 2.8 |
ApertureValue | 2.8 |
ApproximateFocusDistance | 0.93 |
AutoLateralCA | 0 |
AutoWhiteVersion | 134348800 |
BitsPerSample | 8 |
Blacks2012 | 0 |
BlueHue | 0 |
BlueSaturation | 0 |
CameraProfile | Adobe Standard |
CircleOfConfusion | 0.028 mm |
Clarity2012 | 0 |
ColorComponents | 3 |
ColorMode | RGB |
ColorNoiseReduction | 25 |
ColorNoiseReductionDetail | 50 |
ColorNoiseReductionSmoothness | 50 |
ColorSpace | Uncalibrated |
ColorTemperature | 2850 |
ColorTransform | YCbCr |
Contrast2012 | 0 |
ConvertToGrayscale | False |
CreateDate (1) | 2018:12:31 05:15 |
CreateDate | 2018:12:31 05:15:00 |
CustomRendered | Normal |
DateCreated (1) | 2018:12:31 |
DateCreated | 2018:12:31 05:15:00.001 |
DateTimeOriginal | 2018:12:31 05:15:00 |
DefringeGreenAmount | 0 |
DefringeGreenHueHi | 60 |
DefringeGreenHueLo | 40 |
DefringePurpleAmount | 0 |
DefringePurpleHueHi | 70 |
DefringePurpleHueLo | 30 |
Dehaze | 0 |
DOF | 0.23 m (0.83 - 1.06 m) |
ExifImageHeight | 5122 |
ExifImageWidth | 3840 |
Exposure2012 | 0.00 |
ExposureCompensation | -5/3 |
ExposureMode | Auto |
ExposureProgram | Aperture-priority AE |
ExposureTime | 1/40 |
Firmware | 1.3.3 |
Flash | Off, Did not fire |
FlashCompensation | 0 |
FNumber | 2.8 |
FocalLength | 24.0 mm |
FocalLength35efl | 24.0 mm (35 mm equivalent: 26.0 mm) |
Format | image/jpeg |
FOV | 69.5 deg |
GrainAmount | 0 |
GreenHue | 0 |
GreenSaturation | 0 |
HasCrop | False |
HasSettings | True |
Highlights2012 | -68 |
HueAdjustmentAqua | 0 |
HueAdjustmentBlue | 0 |
HueAdjustmentGreen | 0 |
HueAdjustmentMagenta | 0 |
HueAdjustmentOrange | 0 |
HueAdjustmentPurple | 0 |
HueAdjustmentRed | 0 |
HueAdjustmentYellow | 0 |
HyperfocalDistance | 7.40 m |
ICCProfileName | Adobe RGB (1998) |
ImageHeight | 5122 |
ImageNumber | 0 |
ImageSize | 3840x5122 |
ImageWidth | 3840 |
ISO | 2000 |
Lens | EF24-70mm f/2.8L II USM |
LensID (1) | 495 |
LensID | Canon EF 24-70mm f/2.8L II USM |
LensInfo | 24-70mm f/? |
LensManualDistortionAmount | 0 |
LensModel | EF24-70mm f/2.8L II USM |
LensProfileEnable | 0 |
LensProfileSetup | LensDefaults |
LensSerialNumber | 0425007158 |
LightValue | 4.0 |
LookAmount | 1.000000 |
LookCopyright | © 2018 Adobe Systems, Inc. |
LookGroup | Profiles |
LookName | Adobe Color |
LookParametersCameraProfile | Adobe Standard |
LookParametersConvertToGrayscale | False |
LookParametersLookTable | E1095149FDB39D7A057BAB208837E2E1 |
LookParametersProcessVersion | 11.0 |
LookParametersToneCurvePV2012 | 0, 0, 22, 16, 40, 35, 127, 127, 224, 230, 240, 246, 255, 255 |
LookParametersToneCurvePV2012Blue | 0, 0, 255, 255 |
LookParametersToneCurvePV2012Green | 0, 0, 255, 255 |
LookParametersToneCurvePV2012Red | 0, 0, 255, 255 |
LookParametersVersion | 11.1 |
LookSupportsAmount | false |
LookSupportsMonochrome | false |
LookSupportsOutputReferred | false |
LuminanceAdjustmentAqua | 0 |
LuminanceAdjustmentBlue | 0 |
LuminanceAdjustmentGreen | 0 |
LuminanceAdjustmentMagenta | 0 |
LuminanceAdjustmentOrange | 0 |
LuminanceAdjustmentPurple | 0 |
LuminanceAdjustmentRed | 0 |
LuminanceAdjustmentYellow | 0 |
LuminanceSmoothing | 0 |
Make | Canon |
MaxApertureValue | 2.8 |
Megapixels | 19.7 |
MeteringMode | Center-weighted average |
Model | Canon EOS 5D Mark III |
ModifyDate (1) | 2019:02:02 19:21:27+01:00 |
ModifyDate | 2019:02:02 19:21:27 |
Orientation | Horizontal (normal) |
OverrideLookVignette | False |
ParametricDarks | 0 |
ParametricHighlights | 0 |
ParametricHighlightSplit | 75 |
ParametricLights | 0 |
ParametricMidtoneSplit | 50 |
ParametricShadows | 0 |
ParametricShadowSplit | 25 |
PerspectiveAspect | 0 |
PerspectiveHorizontal | 0 |
PerspectiveRotate | 0.0 |
PerspectiveScale | 100 |
PerspectiveUpright | 0 |
PerspectiveVertical | 0 |
PerspectiveX | 0.00 |
PerspectiveY | 0.00 |
PostCropVignetteAmount | 0 |
ProcessVersion | 11.0 |
ProfileDescription | Adobe RGB (1998) |
Rating | 0 |
RawFileName | 427A6043.CR2 |
RecommendedExposureIndex | 2000 |
RedHue | 0 |
RedSaturation | 0 |
Saturation | 0 |
SaturationAdjustmentAqua | 0 |
SaturationAdjustmentBlue | 0 |
SaturationAdjustmentGreen | 0 |
SaturationAdjustmentMagenta | 0 |
SaturationAdjustmentOrange | 0 |
SaturationAdjustmentPurple | 0 |
SaturationAdjustmentRed | 0 |
SaturationAdjustmentYellow | 0 |
ScaleFactor35efl | 1.1 |
SceneCaptureType | Standard |
SensitivityType | Recommended Exposure Index |
SerialNumber | 423023001467 |
Shadows2012 | +63 |
ShadowTint | 0 |
SharpenDetail | 25 |
SharpenEdgeMasking | 0 |
SharpenRadius | +1.0 |
Sharpness | 40 |
ShutterSpeed | 1/40 |
ShutterSpeedValue | 1/40 |
Software | Adobe Photoshop CC 2019 (Windows) |
SplitToningBalance | 0 |
SplitToningHighlightHue | 0 |
SplitToningHighlightSaturation | 0 |
SplitToningShadowHue | 0 |
SplitToningShadowSaturation | 0 |
Tint | 0 |
ToneCurve | 0, 0, 32, 22, 64, 56, 128, 128, 192, 196, 255, 255 |
ToneCurveBlue | 0, 0, 255, 255 |
ToneCurveGreen | 0, 0, 255, 255 |
ToneCurveName | Medium Contrast |
ToneCurveName2012 | Linear |
ToneCurvePV2012 | 0, 0, 255, 255 |
ToneCurvePV2012Blue | 0, 0, 255, 255 |
ToneCurvePV2012Green | 0, 0, 255, 255 |
ToneCurvePV2012Red | 0, 0, 255, 255 |
ToneCurveRed | 0, 0, 255, 255 |
ToneMapStrength | 0 |
URL_List | |
Version | 11.1 |
Vibrance | 0 |
VignetteAmount | 0 |
WhiteBalance | Auto |
Whites2012 | 0 |