Felt | Verdi |
AlreadyApplied | True |
Aperture | 1.4 |
ApertureValue | 1.4 |
ApproximateFocusDistance | 1.56 |
Artist | Svein Martin Kvalvaag |
AutoLateralCA | 0 |
AutoWhiteVersion | 134348800 |
BitsPerSample | 8 |
Blacks2012 | 0 |
BlueHue | 0 |
BlueSaturation | 0 |
By-line | Svein Martin Kvalvaag |
CameraProfile | Adobe Standard |
CircleOfConfusion | 0.024 mm |
Clarity2012 | +25 |
ColorComponents | 3 |
ColorNoiseReduction | 25 |
ColorNoiseReductionDetail | 50 |
ColorNoiseReductionSmoothness | 50 |
ColorSpace | sRGB |
ColorTransform | YCbCr |
Contrast2012 | +2 |
ConvertToGrayscale | True |
CreateDate | 2017:09:23 09:10:36 |
Creator | Svein Martin Kvalvaag |
CreatorTool | Adobe Photoshop Lightroom 6.12 (Macintosh) |
CustomRendered | Normal |
DateCreated (1) | 2017:09:23 |
DateCreated | 2017:09:23 09:10:36.056 |
DateTimeOriginal | 2017:09:23 09:10:36 |
Dehaze | 0 |
DOF | 0.06 m (1.53 - 1.59 m) |
Exposure2012 | 0.00 |
ExposureCompensation | 0 |
ExposureMode | Auto |
ExposureProgram | Aperture-priority AE |
ExposureTime | 1/2000 |
Firmware | 1.3.4 |
Flash | Off, Did not fire |
FlashCompensation | 0 |
FNumber | 1.4 |
FocalLength | 50.0 mm |
FocalLength35efl | 50.0 mm (35 mm equivalent: 63.9 mm) |
Format | image/jpeg |
FOV | 31.5 deg |
GradientBasedCorrActive | true |
GradientBasedCorrAmount | 1.000000 |
GradientBasedCorrBrightness | 0.000000 |
GradientBasedCorrClarity2012 | 0.000000 |
GradientBasedCorrContrast2012 | 0.000000 |
GradientBasedCorrDefringe | 0.000000 |
GradientBasedCorrExposure2012 | 0.000000 |
GradientBasedCorrHighlights2012 | 0.000000 |
GradientBasedCorrHue | 240.000000 |
GradientBasedCorrLuminanceNoise | 0.000000 |
GradientBasedCorrMaskFullX (1) | 0.535638 |
GradientBasedCorrMaskFullX (2) | 0.977939 |
GradientBasedCorrMaskFullX | 0.121919 |
GradientBasedCorrMaskFullY (1) | 0.420028 |
GradientBasedCorrMaskFullY (2) | -0.126204 |
GradientBasedCorrMaskFullY | -0.025743 |
GradientBasedCorrMaskValue | 1.000000 |
GradientBasedCorrMaskWhat | Mask/Gradient |
GradientBasedCorrMaskZeroX (1) | 0.492297 |
GradientBasedCorrMaskZeroX (2) | 0.762201 |
GradientBasedCorrMaskZeroX | 0.262145 |
GradientBasedCorrMaskZeroY (1) | 1.220860 |
GradientBasedCorrMaskZeroY (2) | 0.506478 |
GradientBasedCorrMaskZeroY | 0.522864 |
GradientBasedCorrMoire | 0.000000 |
GradientBasedCorrSaturation | 0.000000 |
GradientBasedCorrShadows2012 | 0.000000 |
GradientBasedCorrSharpness | 0.000000 |
GradientBasedCorrTemperature | 0.000000 |
GradientBasedCorrTint | 0.000000 |
GradientBasedCorrWhat | Correction |
GrainAmount | 0 |
GrayMixerAqua | -17 |
GrayMixerBlue | +12 |
GrayMixerGreen | -43 |
GrayMixerMagenta | +3 |
GrayMixerOrange | -24 |
GrayMixerPurple | +17 |
GrayMixerRed | +1 |
GrayMixerYellow | -25 |
GreenHue | 0 |
GreenSaturation | 0 |
HasCrop | False |
HasSettings | True |
Highlights2012 | 0 |
HyperfocalDistance | 75.92 m |
ImageHeight | 3387 |
ImageNumber | 0 |
ImageSize | 4230x3387 |
ImageWidth | 4230 |
IncrementalTemperature | 0 |
IncrementalTint | 0 |
ISO | 100 |
Lens | EF50mm f/1.2L USM |
LensID (1) | 241 |
LensID | Canon EF 50mm f/1.2L USM |
LensInfo | 50mm f/? |
LensManualDistortionAmount | 0 |
LensModel | EF50mm f/1.2L USM |
LensProfileEnable | 0 |
LensProfileSetup | LensDefaults |
LensSerialNumber | 0000803292 |
LightValue | 11.9 |
LuminanceSmoothing | 0 |
Make | Canon |
MaxApertureValue | 1.2 |
Megapixels | 14.3 |
MeteringMode | Multi-segment |
Model | Canon EOS 5D Mark III |
ModifyDate (1) | 2017:09:27 13:01:53+02:00 |
ModifyDate | 2017:09:27 13:01:53 |
OwnerName | Svein Martin Kvalvaag |
PaintCorrectionActive | true |
PaintCorrectionAmount | 1.000000 |
PaintCorrectionBrightness (1) | 0.048780 |
PaintCorrectionBrightness | 0.000000 |
PaintCorrectionClarity2012 (1) | 0.243900 |
PaintCorrectionClarity2012 (2) | -0.176471 |
PaintCorrectionClarity2012 (3) | -0.379228 |
PaintCorrectionClarity2012 (4) | 0.000000 |
PaintCorrectionClarity2012 | 0.064154 |
PaintCorrectionContrast2012 (1) | 0.097788 |
PaintCorrectionContrast2012 (2) | -0.095312 |
PaintCorrectionContrast2012 (3) | -0.044577 |
PaintCorrectionContrast2012 | 0.000000 |
PaintCorrectionDefringe | 0.000000 |
PaintCorrectionExposure2012 (1) | 0.036605 |
PaintCorrectionExposure2012 (2) | 0.055055 |
PaintCorrectionExposure2012 (4) | 0.000000 |
PaintCorrectionExposure2012 | 0.183915 |
PaintCorrectionHighlights2012 (1) | 0.180741 |
PaintCorrectionHighlights2012 | 0.000000 |
PaintCorrectionHue (1) | 189.000000 |
PaintCorrectionHue (3) | 187.000000 |
PaintCorrectionHue (4) | 28.429701 |
PaintCorrectionHue | 59.000000 |
PaintCorrectionLocalBlacks2012 | 0.000000 |
PaintCorrectionLocalDehaze | 0.000000 |
PaintCorrectionLocalWhites2012 | 0.000000 |
PaintCorrectionLuminanceNoise (2) | 0.121232 |
PaintCorrectionLuminanceNoise (3) | 0.323805 |
PaintCorrectionLuminanceNoise (4) | 0.000000 |
PaintCorrectionLuminanceNoise | 0.159559 |
PaintCorrectionMaskCenterWeight | 0.000000 |
PaintCorrectionMaskFlow (5) | 0.403267 |
PaintCorrectionMaskFlow | 0.263477 |
PaintCorrectionMaskRadius (2) | 0.010415 |
PaintCorrectionMaskRadius (4) | 0.020830 |
PaintCorrectionMaskRadius (7) | 0.036645 |
PaintCorrectionMaskRadius | 0.041640 |
PaintCorrectionMaskValue | 1.000000 |
PaintCorrectionMaskWhat | Mask/Paint |
PaintCorrectionMoire | 0.000000 |
PaintCorrectionSaturation (1) | 0.152940 |
PaintCorrectionSaturation (7) | 0.050000 |
PaintCorrectionSaturation (8) | 0.167109 |
PaintCorrectionSaturation | 0.000000 |
PaintCorrectionShadows2012 (2) | 0.159743 |
PaintCorrectionShadows2012 (3) | 0.101838 |
PaintCorrectionShadows2012 | 0.000000 |
PaintCorrectionSharpness (1) | 0.161429 |
PaintCorrectionSharpness (3) | -0.151654 |
PaintCorrectionSharpness | 0.000000 |
PaintCorrectionTemperature (1) | -0.220330 |
PaintCorrectionTemperature | 0.000000 |
PaintCorrectionTint (1) | -0.087693 |
PaintCorrectionTint (4) | 0.047518 |
PaintCorrectionTint | 0.000000 |
PaintCorrectionWhat | Correction |
ParametricDarks | 0 |
ParametricHighlights | 0 |
ParametricHighlightSplit | 75 |
ParametricLights | 0 |
ParametricMidtoneSplit | 50 |
ParametricShadows | 0 |
ParametricShadowSplit | 25 |
PerspectiveAspect | 0 |
PerspectiveHorizontal | 0 |
PerspectiveRotate | 0.0 |
PerspectiveScale | 100 |
PerspectiveUpright | 0 |
PerspectiveVertical | 0 |
PerspectiveX | 0.00 |
PerspectiveY | 0.00 |
PostCropVignetteAmount | 0 |
ProcessVersion | 6.7 |
ProfileDescription | sRGB IEC61966-2.1 |
RecommendedExposureIndex | 100 |
RedHue | 0 |
RedSaturation | 0 |
ScaleFactor35efl | 1.3 |
SceneCaptureType | Standard |
SensitivityType | Recommended Exposure Index |
SerialNumber | 063024008785 |
Shadows2012 | 0 |
ShadowTint | 0 |
SharpenDetail | 25 |
SharpenEdgeMasking | 0 |
SharpenRadius | +1.0 |
Sharpness | 25 |
ShutterSpeed | 1/2000 |
ShutterSpeedValue | 1/2000 |
Software | Adobe Photoshop Lightroom 6.12 (Macintosh) |
SplitToningBalance | 0 |
SplitToningHighlightHue | 0 |
SplitToningHighlightSaturation | 0 |
SplitToningShadowHue | 0 |
SplitToningShadowSaturation | 0 |
ToneCurve | 0, 0, 255, 255 |
ToneCurveBlue | 0, 0, 255, 255 |
ToneCurveGreen | 0, 0, 255, 255 |
ToneCurveName | Linear |
ToneCurveName2012 | Custom |
ToneCurvePV2012 | 0, 52, 69, 57, 118, 131, 165, 176, 204, 197, 255, 222 |
ToneCurvePV2012Blue | 0, 0, 255, 255 |
ToneCurvePV2012Green | 0, 0, 255, 255 |
ToneCurvePV2012Red | 0, 0, 255, 255 |
ToneCurveRed | 0, 0, 255, 255 |
ToneMapStrength | 0 |
Version | 9.12 |
VignetteAmount | 0 |
WhiteBalance (1) | As Shot |
WhiteBalance | Auto |
Whites2012 | +54 |